BEGIN:VCALENDAR
VERSION:2.0
PRODID:-//Royal Mail Hotel - ECPv6.15.20//NONSGML v1.0//EN
CALSCALE:GREGORIAN
METHOD:PUBLISH
X-WR-CALNAME:Royal Mail Hotel
X-ORIGINAL-URL:https://royalmailgoodna.com
X-WR-CALDESC:Events for Royal Mail Hotel
REFRESH-INTERVAL;VALUE=DURATION:PT1H
X-Robots-Tag:noindex
X-PUBLISHED-TTL:PT1H
BEGIN:VTIMEZONE
TZID:Australia/Brisbane
BEGIN:STANDARD
TZOFFSETFROM:+1000
TZOFFSETTO:+1000
TZNAME:AEST
DTSTART:20210101T000000
END:STANDARD
END:VTIMEZONE
BEGIN:VEVENT
DTSTART;TZID=Australia/Brisbane:20220101T140000
DTEND;TZID=Australia/Brisbane:20220101T170000
DTSTAMP:20260422T155419
CREATED:20211227T085534Z
LAST-MODIFIED:20211227T085534Z
UID:1886-1641045600-1641056400@royalmailgoodna.com
SUMMARY:John Malcolm
DESCRIPTION:
URL:https://royalmailgoodna.com/event/john-malcolm/
END:VEVENT
BEGIN:VEVENT
DTSTART;TZID=Australia/Brisbane:20220108T163000
DTEND;TZID=Australia/Brisbane:20220108T163000
DTSTAMP:20260422T155419
CREATED:20211129T004523Z
LAST-MODIFIED:20211129T004523Z
UID:1854-1641659400-1641659400@royalmailgoodna.com
SUMMARY:Buzz and the Blues Band
DESCRIPTION:
URL:https://royalmailgoodna.com/event/buzz-and-the-blues-band/
END:VEVENT
BEGIN:VEVENT
DTSTART;VALUE=DATE:20220115
DTEND;VALUE=DATE:20220116
DTSTAMP:20260422T155419
CREATED:20211129T004647Z
LAST-MODIFIED:20211207T103957Z
UID:1856-1642204800-1642291199@royalmailgoodna.com
SUMMARY:Mescalito Blues
DESCRIPTION:
URL:https://royalmailgoodna.com/event/mescalito-blues-2/
END:VEVENT
BEGIN:VEVENT
DTSTART;TZID=Australia/Brisbane:20220122T130000
DTEND;TZID=Australia/Brisbane:20220122T130000
DTSTAMP:20260422T155419
CREATED:20220103T104055Z
LAST-MODIFIED:20220103T104055Z
UID:1893-1642856400-1642856400@royalmailgoodna.com
SUMMARY:Zed Charles
DESCRIPTION:
URL:https://royalmailgoodna.com/event/zed-charles/
END:VEVENT
BEGIN:VEVENT
DTSTART;TZID=Australia/Brisbane:20220122T163000
DTEND;TZID=Australia/Brisbane:20220122T163000
DTSTAMP:20260422T155419
CREATED:20211129T004958Z
LAST-MODIFIED:20211129T004958Z
UID:1861-1642869000-1642869000@royalmailgoodna.com
SUMMARY:The Turnaround
DESCRIPTION:
URL:https://royalmailgoodna.com/event/the-turnaround/
END:VEVENT
BEGIN:VEVENT
DTSTART;VALUE=DATE:20220126
DTEND;VALUE=DATE:20220127
DTSTAMP:20260422T155419
CREATED:20211129T004909Z
LAST-MODIFIED:20211129T004909Z
UID:1859-1643155200-1643241599@royalmailgoodna.com
SUMMARY:Aussie Day with the Massive Fergusons
DESCRIPTION:
URL:https://royalmailgoodna.com/event/aussie-day-with-the-massive-fergusons/
END:VEVENT
BEGIN:VEVENT
DTSTART;TZID=Australia/Brisbane:20220129T130000
DTEND;TZID=Australia/Brisbane:20220129T130000
DTSTAMP:20260422T155419
CREATED:20220103T103603Z
LAST-MODIFIED:20220103T103603Z
UID:1889-1643461200-1643461200@royalmailgoodna.com
SUMMARY:Tracey Hammell Band
DESCRIPTION:
URL:https://royalmailgoodna.com/event/tracey-hammell-band/
END:VEVENT
BEGIN:VEVENT
DTSTART;TZID=Australia/Brisbane:20220129T163000
DTEND;TZID=Australia/Brisbane:20220129T163000
DTSTAMP:20260422T155419
CREATED:20220103T103656Z
LAST-MODIFIED:20220103T103656Z
UID:1891-1643473800-1643473800@royalmailgoodna.com
SUMMARY:Pete Cullen & the Hurt
DESCRIPTION:
URL:https://royalmailgoodna.com/event/pete-cullen-the-hurt/
END:VEVENT
END:VCALENDAR