BEGIN:VCALENDAR
VERSION:2.0
PRODID:-//Royal Mail Hotel - ECPv6.15.20//NONSGML v1.0//EN
CALSCALE:GREGORIAN
METHOD:PUBLISH
X-WR-CALNAME:Royal Mail Hotel
X-ORIGINAL-URL:https://royalmailgoodna.com
X-WR-CALDESC:Events for Royal Mail Hotel
REFRESH-INTERVAL;VALUE=DURATION:PT1H
X-Robots-Tag:noindex
X-PUBLISHED-TTL:PT1H
BEGIN:VTIMEZONE
TZID:Australia/Brisbane
BEGIN:STANDARD
TZOFFSETFROM:+1000
TZOFFSETTO:+1000
TZNAME:AEST
DTSTART:20200101T000000
END:STANDARD
END:VTIMEZONE
BEGIN:VEVENT
DTSTART;TZID=Australia/Brisbane:20211203T180000
DTEND;TZID=Australia/Brisbane:20211203T180000
DTSTAMP:20260422T170353
CREATED:20211122T062412Z
LAST-MODIFIED:20211122T062412Z
UID:1836-1638554400-1638554400@royalmailgoodna.com
SUMMARY:Slow Cooker
DESCRIPTION:
URL:https://royalmailgoodna.com/event/slow-cooker-3/
END:VEVENT
BEGIN:VEVENT
DTSTART;TZID=Australia/Brisbane:20211204T130000
DTEND;TZID=Australia/Brisbane:20211204T130000
DTSTAMP:20260422T170353
CREATED:20211101T005350Z
LAST-MODIFIED:20211129T003341Z
UID:1821-1638622800-1638622800@royalmailgoodna.com
SUMMARY:Superfry'd
DESCRIPTION:
URL:https://royalmailgoodna.com/event/superfryd-soul/
END:VEVENT
BEGIN:VEVENT
DTSTART;TZID=Australia/Brisbane:20211204T160000
DTEND;TZID=Australia/Brisbane:20211204T160000
DTSTAMP:20260422T170353
CREATED:20211101T005438Z
LAST-MODIFIED:20211101T005438Z
UID:1823-1638633600-1638633600@royalmailgoodna.com
SUMMARY:Dezzie D and The Stingrayz
DESCRIPTION:
URL:https://royalmailgoodna.com/event/dezzie-d-and-the-stingrayz/
END:VEVENT
BEGIN:VEVENT
DTSTART;TZID=Australia/Brisbane:20211210T180000
DTEND;TZID=Australia/Brisbane:20211210T180000
DTSTAMP:20260422T170353
CREATED:20211122T062515Z
LAST-MODIFIED:20211122T062515Z
UID:1838-1639159200-1639159200@royalmailgoodna.com
SUMMARY:Rouge Elements
DESCRIPTION:
URL:https://royalmailgoodna.com/event/rouge-elements/
END:VEVENT
BEGIN:VEVENT
DTSTART;TZID=Australia/Brisbane:20211211T130000
DTEND;TZID=Australia/Brisbane:20211211T130000
DTSTAMP:20260422T170353
CREATED:20211122T062712Z
LAST-MODIFIED:20211122T062712Z
UID:1840-1639227600-1639227600@royalmailgoodna.com
SUMMARY:Adam Hole Band
DESCRIPTION:
URL:https://royalmailgoodna.com/event/adam-hole-band/
END:VEVENT
BEGIN:VEVENT
DTSTART;TZID=Australia/Brisbane:20211211T160000
DTEND;TZID=Australia/Brisbane:20211211T160000
DTSTAMP:20260422T170353
CREATED:20211122T062749Z
LAST-MODIFIED:20211129T003219Z
UID:1842-1639238400-1639238400@royalmailgoodna.com
SUMMARY:Marshall and The Fro
DESCRIPTION:
URL:https://royalmailgoodna.com/event/marshall-and-the-fro/
END:VEVENT
BEGIN:VEVENT
DTSTART;TZID=Australia/Brisbane:20211217T180000
DTEND;TZID=Australia/Brisbane:20211217T180000
DTSTAMP:20260422T170353
CREATED:20211122T062907Z
LAST-MODIFIED:20211122T062907Z
UID:1844-1639764000-1639764000@royalmailgoodna.com
SUMMARY:Royal Mail Blues Jam with Cecil
DESCRIPTION:
URL:https://royalmailgoodna.com/event/royal-mail-blues-jam-with-cecil/
END:VEVENT
BEGIN:VEVENT
DTSTART;TZID=Australia/Brisbane:20211218T130000
DTEND;TZID=Australia/Brisbane:20211218T130000
DTSTAMP:20260422T170353
CREATED:20211129T004227Z
LAST-MODIFIED:20211129T094922Z
UID:1852-1639832400-1639832400@royalmailgoodna.com
SUMMARY:Tracey Hammell & Georgie Duo
DESCRIPTION:
URL:https://royalmailgoodna.com/event/tracey-hammell-nathan-duo/
END:VEVENT
BEGIN:VEVENT
DTSTART;VALUE=DATE:20211225
DTEND;VALUE=DATE:20211226
DTSTAMP:20260422T170353
CREATED:20211223T113155Z
LAST-MODIFIED:20211223T113155Z
UID:1877-1640390400-1640476799@royalmailgoodna.com
SUMMARY:CLOSED
DESCRIPTION:
URL:https://royalmailgoodna.com/event/closed/
END:VEVENT
BEGIN:VEVENT
DTSTART;VALUE=DATE:20211226
DTEND;VALUE=DATE:20211227
DTSTAMP:20260422T170353
CREATED:20211223T113221Z
LAST-MODIFIED:20211223T113221Z
UID:1879-1640476800-1640563199@royalmailgoodna.com
SUMMARY:CLOSED
DESCRIPTION:
URL:https://royalmailgoodna.com/event/closed-2/
END:VEVENT
BEGIN:VEVENT
DTSTART;VALUE=DATE:20211227
DTEND;VALUE=DATE:20211228
DTSTAMP:20260422T170353
CREATED:20211223T113243Z
LAST-MODIFIED:20211223T113243Z
UID:1881-1640563200-1640649599@royalmailgoodna.com
SUMMARY:CLOSED
DESCRIPTION:
URL:https://royalmailgoodna.com/event/closed-3/
END:VEVENT
BEGIN:VEVENT
DTSTART;VALUE=DATE:20211228
DTEND;VALUE=DATE:20211229
DTSTAMP:20260422T170353
CREATED:20211223T113308Z
LAST-MODIFIED:20211223T113352Z
UID:1883-1640649600-1640735999@royalmailgoodna.com
SUMMARY:CLOSED
DESCRIPTION:
URL:https://royalmailgoodna.com/event/closed-4/
END:VEVENT
END:VCALENDAR