BEGIN:VCALENDAR
VERSION:2.0
PRODID:-//Royal Mail Hotel - ECPv6.15.20//NONSGML v1.0//EN
CALSCALE:GREGORIAN
METHOD:PUBLISH
X-WR-CALNAME:Royal Mail Hotel
X-ORIGINAL-URL:https://royalmailgoodna.com
X-WR-CALDESC:Events for Royal Mail Hotel
REFRESH-INTERVAL;VALUE=DURATION:PT1H
X-Robots-Tag:noindex
X-PUBLISHED-TTL:PT1H
BEGIN:VTIMEZONE
TZID:Australia/Brisbane
BEGIN:STANDARD
TZOFFSETFROM:+1000
TZOFFSETTO:+1000
TZNAME:AEST
DTSTART:20200101T000000
END:STANDARD
END:VTIMEZONE
BEGIN:VEVENT
DTSTART;TZID=Australia/Brisbane:20210926T130000
DTEND;TZID=Australia/Brisbane:20210926T170000
DTSTAMP:20260423T112345
CREATED:20210916T091600Z
LAST-MODIFIED:20210920T233837Z
UID:1579-1632661200-1632675600@royalmailgoodna.com
SUMMARY:BASEQ Jam - host band The Groove Masters
DESCRIPTION:
URL:https://royalmailgoodna.com/event/baseq-jam-host-band-the-groove-masters/
LOCATION:Royal Mail Hotel\, 92 Brisbane Terrace\, Goodna\, Queensland\, 4300\, Australia
CATEGORIES:Blues & Roots,Community
END:VEVENT
BEGIN:VEVENT
DTSTART;TZID=Australia/Brisbane:20210925T163000
DTEND;TZID=Australia/Brisbane:20210925T163000
DTSTAMP:20260423T112345
CREATED:20210916T091248Z
LAST-MODIFIED:20210916T091248Z
UID:1577-1632587400-1632587400@royalmailgoodna.com
SUMMARY:The Billie Page Rebellion
DESCRIPTION:
URL:https://royalmailgoodna.com/event/the-billie-page-rebellion/
LOCATION:Royal Mail Hotel\, 92 Brisbane Terrace\, Goodna\, Queensland\, 4300\, Australia
CATEGORIES:Blues & Roots
END:VEVENT
BEGIN:VEVENT
DTSTART;TZID=Australia/Brisbane:20210925T130000
DTEND;TZID=Australia/Brisbane:20210925T130000
DTSTAMP:20260423T112345
CREATED:20210916T091036Z
LAST-MODIFIED:20210916T091333Z
UID:1575-1632574800-1632574800@royalmailgoodna.com
SUMMARY:The Evening Sons
DESCRIPTION:
URL:https://royalmailgoodna.com/event/the-evening-sons/
LOCATION:Royal Mail Hotel\, 92 Brisbane Terrace\, Goodna\, Queensland\, 4300\, Australia
CATEGORIES:Blues & Roots
END:VEVENT
BEGIN:VEVENT
DTSTART;TZID=Australia/Brisbane:20210924T180000
DTEND;TZID=Australia/Brisbane:20210924T180000
DTSTAMP:20260423T112345
CREATED:20210916T090720Z
LAST-MODIFIED:20210916T091642Z
UID:1573-1632506400-1632506400@royalmailgoodna.com
SUMMARY:RM Blues Jam Band
DESCRIPTION:
URL:https://royalmailgoodna.com/event/rm-blues-jam-band/
LOCATION:Royal Mail Hotel\, 92 Brisbane Terrace\, Goodna\, Queensland\, 4300\, Australia
CATEGORIES:Blues & Roots,Community
END:VEVENT
BEGIN:VEVENT
DTSTART;TZID=Australia/Brisbane:20210918T164000
DTEND;TZID=Australia/Brisbane:20210918T164000
DTSTAMP:20260423T112345
CREATED:20210916T080032Z
LAST-MODIFIED:20210916T090532Z
UID:1571-1631983200-1631983200@royalmailgoodna.com
SUMMARY:Mescalito Blues
DESCRIPTION:
URL:https://royalmailgoodna.com/event/mescalito-blues/
LOCATION:Royal Mail Hotel\, 92 Brisbane Terrace\, Goodna\, Queensland\, 4300\, Australia
CATEGORIES:Blues & Roots
END:VEVENT
BEGIN:VEVENT
DTSTART;TZID=Australia/Brisbane:20210918T130000
DTEND;TZID=Australia/Brisbane:20210918T130000
DTSTAMP:20260423T112345
CREATED:20210916T072540Z
LAST-MODIFIED:20210916T090517Z
UID:1569-1631970000-1631970000@royalmailgoodna.com
SUMMARY:The Blues Burners
DESCRIPTION:
URL:https://royalmailgoodna.com/event/the-blues-burners/
LOCATION:Royal Mail Hotel\, 92 Brisbane Terrace\, Goodna\, Queensland\, 4300\, Australia
CATEGORIES:Blues & Roots
END:VEVENT
BEGIN:VEVENT
DTSTART;TZID=Australia/Brisbane:20210917T180000
DTEND;TZID=Australia/Brisbane:20210917T180000
DTSTAMP:20260423T112345
CREATED:20210916T070519Z
LAST-MODIFIED:20210916T090541Z
UID:1561-1631901600-1631901600@royalmailgoodna.com
SUMMARY:Slow Cooker
DESCRIPTION:
URL:https://royalmailgoodna.com/event/slow-cooker/
LOCATION:Royal Mail Hotel\, 92 Brisbane Terrace\, Goodna\, Queensland\, 4300\, Australia
CATEGORIES:Blues & Roots
END:VEVENT
END:VCALENDAR