BEGIN:VCALENDAR
VERSION:2.0
PRODID:-//Royal Mail Hotel - ECPv6.15.20//NONSGML v1.0//EN
CALSCALE:GREGORIAN
METHOD:PUBLISH
X-WR-CALNAME:Royal Mail Hotel
X-ORIGINAL-URL:https://royalmailgoodna.com
X-WR-CALDESC:Events for Royal Mail Hotel
REFRESH-INTERVAL;VALUE=DURATION:PT1H
X-Robots-Tag:noindex
X-PUBLISHED-TTL:PT1H
BEGIN:VTIMEZONE
TZID:Australia/Brisbane
BEGIN:STANDARD
TZOFFSETFROM:+1000
TZOFFSETTO:+1000
TZNAME:AEST
DTSTART:20210101T000000
END:STANDARD
END:VTIMEZONE
BEGIN:VEVENT
DTSTART;TZID=Australia/Brisbane:20220507T140000
DTEND;TZID=Australia/Brisbane:20220507T140000
DTSTAMP:20260423T080210
CREATED:20220404T051211Z
LAST-MODIFIED:20220404T051335Z
UID:2186-1651932000-1651932000@royalmailgoodna.com
SUMMARY:Buzz and the Blues Band
DESCRIPTION:
URL:https://royalmailgoodna.com/event/blues-arcadia-2/
END:VEVENT
BEGIN:VEVENT
DTSTART;TZID=Australia/Brisbane:20220430T163000
DTEND;TZID=Australia/Brisbane:20220430T163000
DTSTAMP:20260423T080210
CREATED:20220321T004237Z
LAST-MODIFIED:20220321T004237Z
UID:2176-1651336200-1651336200@royalmailgoodna.com
SUMMARY:West Texas Crude
DESCRIPTION:
URL:https://royalmailgoodna.com/event/west-texas-crude-4/
END:VEVENT
BEGIN:VEVENT
DTSTART;TZID=Australia/Brisbane:20220430T130000
DTEND;TZID=Australia/Brisbane:20220430T130000
DTSTAMP:20260423T080210
CREATED:20220321T003948Z
LAST-MODIFIED:20220321T004153Z
UID:2173-1651323600-1651323600@royalmailgoodna.com
SUMMARY:Rhyley McGrath
DESCRIPTION:
URL:https://royalmailgoodna.com/event/rhyley-mcgrath/
END:VEVENT
BEGIN:VEVENT
DTSTART;TZID=Australia/Brisbane:20220424T130000
DTEND;TZID=Australia/Brisbane:20220424T130000
DTSTAMP:20260423T080210
CREATED:20220418T003339Z
LAST-MODIFIED:20220418T003339Z
UID:2224-1650805200-1650805200@royalmailgoodna.com
SUMMARY:BASEQ Jam with Taylor Made
DESCRIPTION:
URL:https://royalmailgoodna.com/event/baseq-jam-with-taylor-made/
END:VEVENT
BEGIN:VEVENT
DTSTART;TZID=Australia/Brisbane:20220423T160000
DTEND;TZID=Australia/Brisbane:20220423T160000
DTSTAMP:20260423T080210
CREATED:20220321T003854Z
LAST-MODIFIED:20220321T003854Z
UID:2171-1650729600-1650729600@royalmailgoodna.com
SUMMARY:The Jar
DESCRIPTION:
URL:https://royalmailgoodna.com/event/the-jar-2/
END:VEVENT
BEGIN:VEVENT
DTSTART;TZID=Australia/Brisbane:20220423T120000
DTEND;TZID=Australia/Brisbane:20220423T120000
DTSTAMP:20260423T080210
CREATED:20220321T003811Z
LAST-MODIFIED:20220321T003811Z
UID:2169-1650715200-1650715200@royalmailgoodna.com
SUMMARY:Dan Hopkins
DESCRIPTION:
URL:https://royalmailgoodna.com/event/dan-hopkins/
END:VEVENT
BEGIN:VEVENT
DTSTART;TZID=Australia/Brisbane:20220416T150000
DTEND;TZID=Australia/Brisbane:20220416T150000
DTSTAMP:20260423T080210
CREATED:20220321T003636Z
LAST-MODIFIED:20220407T041855Z
UID:2167-1650121200-1650121200@royalmailgoodna.com
SUMMARY:The Honey Sliders
DESCRIPTION:
URL:https://royalmailgoodna.com/event/danny-widdicombe-trio/
END:VEVENT
BEGIN:VEVENT
DTSTART;TZID=Australia/Brisbane:20220416T123000
DTEND;TZID=Australia/Brisbane:20220416T123000
DTSTAMP:20260423T080210
CREATED:20220407T034214Z
LAST-MODIFIED:20220407T034214Z
UID:2192-1650112200-1650112200@royalmailgoodna.com
SUMMARY:Clint Oberle
DESCRIPTION:
URL:https://royalmailgoodna.com/event/clint-oberle/
END:VEVENT
BEGIN:VEVENT
DTSTART;TZID=Australia/Brisbane:20220409T163000
DTEND;TZID=Australia/Brisbane:20220409T163000
DTSTAMP:20260423T080210
CREATED:20220321T002948Z
LAST-MODIFIED:20220321T002948Z
UID:2164-1649521800-1649521800@royalmailgoodna.com
SUMMARY:Superfry'd
DESCRIPTION:
URL:https://royalmailgoodna.com/event/superfryd-2/
END:VEVENT
BEGIN:VEVENT
DTSTART;TZID=Australia/Brisbane:20220409T130000
DTEND;TZID=Australia/Brisbane:20220409T130000
DTSTAMP:20260423T080210
CREATED:20220321T002859Z
LAST-MODIFIED:20220321T002859Z
UID:2162-1649509200-1649509200@royalmailgoodna.com
SUMMARY:Delta Alley Blues Band
DESCRIPTION:
URL:https://royalmailgoodna.com/event/delta-alley-blues-band/
END:VEVENT
BEGIN:VEVENT
DTSTART;TZID=Australia/Brisbane:20220402T160000
DTEND;TZID=Australia/Brisbane:20220402T160000
DTSTAMP:20260423T080210
CREATED:20220307T060909Z
LAST-MODIFIED:20220307T060909Z
UID:1993-1648915200-1648915200@royalmailgoodna.com
SUMMARY:Holy Smokes
DESCRIPTION:
URL:https://royalmailgoodna.com/event/holy-smokes/
END:VEVENT
BEGIN:VEVENT
DTSTART;TZID=Australia/Brisbane:20220402T130000
DTEND;TZID=Australia/Brisbane:20220402T130000
DTSTAMP:20260423T080210
CREATED:20220307T060826Z
LAST-MODIFIED:20220307T060826Z
UID:1991-1648904400-1648904400@royalmailgoodna.com
SUMMARY:Junior & the Easy Aces
DESCRIPTION:
URL:https://royalmailgoodna.com/event/junior-the-easy-aces/
END:VEVENT
BEGIN:VEVENT
DTSTART;TZID=Australia/Brisbane:20220326T163000
DTEND;TZID=Australia/Brisbane:20220326T163000
DTSTAMP:20260423T080210
CREATED:20220307T060700Z
LAST-MODIFIED:20220307T060700Z
UID:1989-1648312200-1648312200@royalmailgoodna.com
SUMMARY:West Texas Crude
DESCRIPTION:
URL:https://royalmailgoodna.com/event/west-texas-crude-3/
END:VEVENT
BEGIN:VEVENT
DTSTART;TZID=Australia/Brisbane:20220326T130000
DTEND;TZID=Australia/Brisbane:20220326T130000
DTSTAMP:20260423T080210
CREATED:20220307T060611Z
LAST-MODIFIED:20220325T101543Z
UID:1986-1648299600-1648299600@royalmailgoodna.com
SUMMARY:The Kingtones
DESCRIPTION:
URL:https://royalmailgoodna.com/event/buzz-and-the-blues-band-2/
END:VEVENT
BEGIN:VEVENT
DTSTART;TZID=Australia/Brisbane:20220319T163000
DTEND;TZID=Australia/Brisbane:20220319T163000
DTSTAMP:20260423T080210
CREATED:20220206T070044Z
LAST-MODIFIED:20220206T070044Z
UID:1926-1647707400-1647707400@royalmailgoodna.com
SUMMARY:Pete Cullen & The Hurt
DESCRIPTION:
URL:https://royalmailgoodna.com/event/pete-cullen-the-hurt-2/
END:VEVENT
BEGIN:VEVENT
DTSTART;TZID=Australia/Brisbane:20220319T130000
DTEND;TZID=Australia/Brisbane:20220319T130000
DTSTAMP:20260423T080210
CREATED:20220307T060213Z
LAST-MODIFIED:20220307T060529Z
UID:1984-1647694800-1647694800@royalmailgoodna.com
SUMMARY:The Evening Sons
DESCRIPTION:
URL:https://royalmailgoodna.com/event/the-evening-sons-2/
END:VEVENT
BEGIN:VEVENT
DTSTART;TZID=Australia/Brisbane:20220312T163000
DTEND;TZID=Australia/Brisbane:20220312T163000
DTSTAMP:20260423T080210
CREATED:20220206T065942Z
LAST-MODIFIED:20220206T065942Z
UID:1924-1647102600-1647102600@royalmailgoodna.com
SUMMARY:Vix and the Slick Chix
DESCRIPTION:
URL:https://royalmailgoodna.com/event/vix-and-the-slick-chix-2/
END:VEVENT
BEGIN:VEVENT
DTSTART;TZID=Australia/Brisbane:20220312T130000
DTEND;TZID=Australia/Brisbane:20220312T130000
DTSTAMP:20260423T080210
CREATED:20220307T060051Z
LAST-MODIFIED:20220307T060051Z
UID:1982-1647090000-1647090000@royalmailgoodna.com
SUMMARY:King Tones
DESCRIPTION:
URL:https://royalmailgoodna.com/event/king-tones/
END:VEVENT
BEGIN:VEVENT
DTSTART;TZID=Australia/Brisbane:20220219T173000
DTEND;TZID=Australia/Brisbane:20220219T173000
DTSTAMP:20260423T080210
CREATED:20220124T010611Z
LAST-MODIFIED:20220124T011053Z
UID:1907-1645291800-1645291800@royalmailgoodna.com
SUMMARY:Superfry'd
DESCRIPTION:
URL:https://royalmailgoodna.com/event/superfryd/
END:VEVENT
BEGIN:VEVENT
DTSTART;TZID=Australia/Brisbane:20220219T140000
DTEND;TZID=Australia/Brisbane:20220219T140000
DTSTAMP:20260423T080210
CREATED:20220124T010516Z
LAST-MODIFIED:20220206T065533Z
UID:1905-1645279200-1645279200@royalmailgoodna.com
SUMMARY:Steve Tyson & The Train Rex
DESCRIPTION:
URL:https://royalmailgoodna.com/event/steve-tyson-the-train-wreak/
END:VEVENT
BEGIN:VEVENT
DTSTART;TZID=Australia/Brisbane:20220212T163000
DTEND;TZID=Australia/Brisbane:20220212T163000
DTSTAMP:20260423T080210
CREATED:20220124T005709Z
LAST-MODIFIED:20220124T005709Z
UID:1901-1644683400-1644683400@royalmailgoodna.com
SUMMARY:Dezzie D and The Stingrayz
DESCRIPTION:
URL:https://royalmailgoodna.com/event/dezzie-d-and-the-stingrayz-2/
END:VEVENT
BEGIN:VEVENT
DTSTART;TZID=Australia/Brisbane:20220212T130000
DTEND;TZID=Australia/Brisbane:20220212T130000
DTSTAMP:20260423T080210
CREATED:20220124T010301Z
LAST-MODIFIED:20220206T070906Z
UID:1903-1644670800-1644670800@royalmailgoodna.com
SUMMARY:Peaches & the Alphasonics
DESCRIPTION:
URL:https://royalmailgoodna.com/event/peaches-alphasonics/
END:VEVENT
BEGIN:VEVENT
DTSTART;TZID=Australia/Brisbane:20220205T170000
DTEND;TZID=Australia/Brisbane:20220205T170000
DTSTAMP:20260423T080210
CREATED:20220124T052825Z
LAST-MODIFIED:20220201T023046Z
UID:1914-1644080400-1644080400@royalmailgoodna.com
SUMMARY:Luke Melhop
DESCRIPTION:
URL:https://royalmailgoodna.com/event/luke-melhop/
END:VEVENT
BEGIN:VEVENT
DTSTART;TZID=Australia/Brisbane:20220205T140000
DTEND;TZID=Australia/Brisbane:20220205T140000
DTSTAMP:20260423T080210
CREATED:20220124T004959Z
LAST-MODIFIED:20220201T023120Z
UID:1898-1644069600-1644069600@royalmailgoodna.com
SUMMARY:Two Tears in a Bucket
DESCRIPTION:
URL:https://royalmailgoodna.com/event/two-tears-in-a-bucket/
END:VEVENT
BEGIN:VEVENT
DTSTART;TZID=Australia/Brisbane:20220129T163000
DTEND;TZID=Australia/Brisbane:20220129T163000
DTSTAMP:20260423T080210
CREATED:20220103T103656Z
LAST-MODIFIED:20220103T103656Z
UID:1891-1643473800-1643473800@royalmailgoodna.com
SUMMARY:Pete Cullen & the Hurt
DESCRIPTION:
URL:https://royalmailgoodna.com/event/pete-cullen-the-hurt/
END:VEVENT
BEGIN:VEVENT
DTSTART;TZID=Australia/Brisbane:20220129T130000
DTEND;TZID=Australia/Brisbane:20220129T130000
DTSTAMP:20260423T080210
CREATED:20220103T103603Z
LAST-MODIFIED:20220103T103603Z
UID:1889-1643461200-1643461200@royalmailgoodna.com
SUMMARY:Tracey Hammell Band
DESCRIPTION:
URL:https://royalmailgoodna.com/event/tracey-hammell-band/
END:VEVENT
BEGIN:VEVENT
DTSTART;VALUE=DATE:20220126
DTEND;VALUE=DATE:20220127
DTSTAMP:20260423T080210
CREATED:20211129T004909Z
LAST-MODIFIED:20211129T004909Z
UID:1859-1643155200-1643241599@royalmailgoodna.com
SUMMARY:Aussie Day with the Massive Fergusons
DESCRIPTION:
URL:https://royalmailgoodna.com/event/aussie-day-with-the-massive-fergusons/
END:VEVENT
BEGIN:VEVENT
DTSTART;TZID=Australia/Brisbane:20220122T163000
DTEND;TZID=Australia/Brisbane:20220122T163000
DTSTAMP:20260423T080210
CREATED:20211129T004958Z
LAST-MODIFIED:20211129T004958Z
UID:1861-1642869000-1642869000@royalmailgoodna.com
SUMMARY:The Turnaround
DESCRIPTION:
URL:https://royalmailgoodna.com/event/the-turnaround/
END:VEVENT
BEGIN:VEVENT
DTSTART;TZID=Australia/Brisbane:20220122T130000
DTEND;TZID=Australia/Brisbane:20220122T130000
DTSTAMP:20260423T080210
CREATED:20220103T104055Z
LAST-MODIFIED:20220103T104055Z
UID:1893-1642856400-1642856400@royalmailgoodna.com
SUMMARY:Zed Charles
DESCRIPTION:
URL:https://royalmailgoodna.com/event/zed-charles/
END:VEVENT
BEGIN:VEVENT
DTSTART;VALUE=DATE:20220115
DTEND;VALUE=DATE:20220116
DTSTAMP:20260423T080210
CREATED:20211129T004647Z
LAST-MODIFIED:20211207T103957Z
UID:1856-1642204800-1642291199@royalmailgoodna.com
SUMMARY:Mescalito Blues
DESCRIPTION:
URL:https://royalmailgoodna.com/event/mescalito-blues-2/
END:VEVENT
END:VCALENDAR