BEGIN:VCALENDAR
VERSION:2.0
PRODID:-//Royal Mail Hotel - ECPv6.15.20//NONSGML v1.0//EN
CALSCALE:GREGORIAN
METHOD:PUBLISH
X-WR-CALNAME:Royal Mail Hotel
X-ORIGINAL-URL:https://royalmailgoodna.com
X-WR-CALDESC:Events for Royal Mail Hotel
REFRESH-INTERVAL;VALUE=DURATION:PT1H
X-Robots-Tag:noindex
X-PUBLISHED-TTL:PT1H
BEGIN:VTIMEZONE
TZID:Australia/Brisbane
BEGIN:STANDARD
TZOFFSETFROM:+1000
TZOFFSETTO:+1000
TZNAME:AEST
DTSTART:20210101T000000
END:STANDARD
END:VTIMEZONE
BEGIN:VEVENT
DTSTART;TZID=Australia/Brisbane:20221231T130000
DTEND;TZID=Australia/Brisbane:20221231T160000
DTSTAMP:20260420T032512
CREATED:20221204T002832Z
LAST-MODIFIED:20221204T004318Z
UID:2661-1672491600-1672502400@royalmailgoodna.com
SUMMARY:Mick Diggles and The Blues Doctors
DESCRIPTION:
URL:https://royalmailgoodna.com/event/the-blues-doctors/
END:VEVENT
BEGIN:VEVENT
DTSTART;VALUE=DATE:20221226
DTEND;VALUE=DATE:20221227
DTSTAMP:20260420T032512
CREATED:20221221T022121Z
LAST-MODIFIED:20221221T022121Z
UID:2707-1672012800-1672099199@royalmailgoodna.com
SUMMARY:CLOSED
DESCRIPTION:
URL:https://royalmailgoodna.com/event/closed-6/
END:VEVENT
BEGIN:VEVENT
DTSTART;VALUE=DATE:20221225
DTEND;VALUE=DATE:20221226
DTSTAMP:20260420T032512
CREATED:20221221T021953Z
LAST-MODIFIED:20221221T022033Z
UID:2704-1671926400-1672012799@royalmailgoodna.com
SUMMARY:CLOSED
DESCRIPTION:
URL:https://royalmailgoodna.com/event/closed-5/
END:VEVENT
BEGIN:VEVENT
DTSTART;TZID=Australia/Brisbane:20221224T130000
DTEND;TZID=Australia/Brisbane:20221224T160000
DTSTAMP:20260420T032512
CREATED:20220919T010132Z
LAST-MODIFIED:20220919T010132Z
UID:2596-1671886800-1671897600@royalmailgoodna.com
SUMMARY:Mescalito Blues
DESCRIPTION:
URL:https://royalmailgoodna.com/event/mescalito-blues-5/
END:VEVENT
BEGIN:VEVENT
DTSTART;TZID=Australia/Brisbane:20221222T153000
DTEND;TZID=Australia/Brisbane:20221222T193000
DTSTAMP:20260420T032512
CREATED:20221221T013231Z
LAST-MODIFIED:20221221T013231Z
UID:2692-1671723000-1671737400@royalmailgoodna.com
SUMMARY:Royal Mail Jam Session
DESCRIPTION:
URL:https://royalmailgoodna.com/event/royal-mail-jam-session-25/
END:VEVENT
BEGIN:VEVENT
DTSTART;TZID=Australia/Brisbane:20221217T160000
DTEND;TZID=Australia/Brisbane:20221217T190000
DTSTAMP:20260420T032512
CREATED:20220929T002829Z
LAST-MODIFIED:20221024T000629Z
UID:2608-1671292800-1671303600@royalmailgoodna.com
SUMMARY:The Massive Fergusons
DESCRIPTION:
URL:https://royalmailgoodna.com/event/massive-fergusons-3/
END:VEVENT
BEGIN:VEVENT
DTSTART;TZID=Australia/Brisbane:20221210T170000
DTEND;TZID=Australia/Brisbane:20221210T200000
DTSTAMP:20260420T032512
CREATED:20220912T063014Z
LAST-MODIFIED:20220912T063014Z
UID:2580-1670691600-1670702400@royalmailgoodna.com
SUMMARY:The Honey Sliders
DESCRIPTION:
URL:https://royalmailgoodna.com/event/the-honey-sliders-2/
END:VEVENT
BEGIN:VEVENT
DTSTART;TZID=Australia/Brisbane:20221210T130000
DTEND;TZID=Australia/Brisbane:20221210T160000
DTSTAMP:20260420T032512
CREATED:20221018T083713Z
LAST-MODIFIED:20221018T083713Z
UID:2634-1670677200-1670688000@royalmailgoodna.com
SUMMARY:Bassix
DESCRIPTION:
URL:https://royalmailgoodna.com/event/bassix/
END:VEVENT
BEGIN:VEVENT
DTSTART;TZID=Australia/Brisbane:20221209T180000
DTEND;TZID=Australia/Brisbane:20221209T210000
DTSTAMP:20260420T032512
CREATED:20220919T010034Z
LAST-MODIFIED:20220919T010034Z
UID:2594-1670608800-1670619600@royalmailgoodna.com
SUMMARY:Tracey Hammell
DESCRIPTION:
URL:https://royalmailgoodna.com/event/tracey-hammell-3/
END:VEVENT
BEGIN:VEVENT
DTSTART;TZID=Australia/Brisbane:20221203T163000
DTEND;TZID=Australia/Brisbane:20221203T193000
DTSTAMP:20260420T032512
CREATED:20220919T005955Z
LAST-MODIFIED:20221124T065847Z
UID:2592-1670085000-1670095800@royalmailgoodna.com
SUMMARY:Shotgun Sam
DESCRIPTION:
URL:https://royalmailgoodna.com/event/shotgun-sam/
END:VEVENT
BEGIN:VEVENT
DTSTART;TZID=Australia/Brisbane:20221203T133000
DTEND;TZID=Australia/Brisbane:20221203T163000
DTSTAMP:20260420T032512
CREATED:20221124T065959Z
LAST-MODIFIED:20221124T065959Z
UID:2654-1670074200-1670085000@royalmailgoodna.com
SUMMARY:Deja Blues
DESCRIPTION:
URL:https://royalmailgoodna.com/event/deja-blues/
END:VEVENT
BEGIN:VEVENT
DTSTART;TZID=Australia/Brisbane:20221202T180000
DTEND;TZID=Australia/Brisbane:20221202T200000
DTSTAMP:20260420T032512
CREATED:20220905T001032Z
LAST-MODIFIED:20220905T001100Z
UID:2574-1670004000-1670011200@royalmailgoodna.com
SUMMARY:Marita Mangano
DESCRIPTION:
URL:https://royalmailgoodna.com/event/marita-mangano/
END:VEVENT
BEGIN:VEVENT
DTSTART;TZID=Australia/Brisbane:20221201T153000
DTEND;TZID=Australia/Brisbane:20221201T193000
DTSTAMP:20260420T032512
CREATED:20220919T010531Z
LAST-MODIFIED:20220919T010531Z
UID:2602-1669908600-1669923000@royalmailgoodna.com
SUMMARY:Royal Mail Jam Session
DESCRIPTION:
URL:https://royalmailgoodna.com/event/royal-mail-jam-session-23/
END:VEVENT
BEGIN:VEVENT
DTSTART;TZID=Australia/Brisbane:20221127T130000
DTEND;TZID=Australia/Brisbane:20221127T160000
DTSTAMP:20260420T032512
CREATED:20220905T000756Z
LAST-MODIFIED:20221114T002953Z
UID:2572-1669554000-1669564800@royalmailgoodna.com
SUMMARY:BASEQ Jam Session with host band The Turnaround
DESCRIPTION:
URL:https://royalmailgoodna.com/event/baseq-jam-session-5/
END:VEVENT
BEGIN:VEVENT
DTSTART;TZID=Australia/Brisbane:20221126T163000
DTEND;TZID=Australia/Brisbane:20221126T193000
DTSTAMP:20260420T032512
CREATED:20220904T234321Z
LAST-MODIFIED:20220904T234321Z
UID:2563-1669480200-1669491000@royalmailgoodna.com
SUMMARY:Marshall and the Fro
DESCRIPTION:
URL:https://royalmailgoodna.com/event/marshall-and-the-fro-2/
END:VEVENT
BEGIN:VEVENT
DTSTART;TZID=Australia/Brisbane:20221126T130000
DTEND;TZID=Australia/Brisbane:20221126T160000
DTSTAMP:20260420T032512
CREATED:20220904T234214Z
LAST-MODIFIED:20220904T234214Z
UID:2561-1669467600-1669478400@royalmailgoodna.com
SUMMARY:HAM
DESCRIPTION:
URL:https://royalmailgoodna.com/event/ham/
END:VEVENT
BEGIN:VEVENT
DTSTART;TZID=Australia/Brisbane:20221125T180000
DTEND;TZID=Australia/Brisbane:20221125T210000
DTSTAMP:20260420T032512
CREATED:20220904T234106Z
LAST-MODIFIED:20220904T234106Z
UID:2559-1669399200-1669410000@royalmailgoodna.com
SUMMARY:Zed Charles
DESCRIPTION:
URL:https://royalmailgoodna.com/event/zed-charles-2/
END:VEVENT
BEGIN:VEVENT
DTSTART;TZID=Australia/Brisbane:20221124T153000
DTEND;TZID=Australia/Brisbane:20221124T193000
DTSTAMP:20260420T032512
CREATED:20220904T234516Z
LAST-MODIFIED:20220904T234705Z
UID:2566-1669303800-1669318200@royalmailgoodna.com
SUMMARY:Royal Mail Jam Session
DESCRIPTION:
URL:https://royalmailgoodna.com/event/royal-mail-jam-session-22/
END:VEVENT
BEGIN:VEVENT
DTSTART;TZID=Australia/Brisbane:20221119T160000
DTEND;TZID=Australia/Brisbane:20221119T190000
DTSTAMP:20260420T032512
CREATED:20220904T233740Z
LAST-MODIFIED:20220904T233740Z
UID:2555-1668873600-1668884400@royalmailgoodna.com
SUMMARY:West Texas Crude
DESCRIPTION:
URL:https://royalmailgoodna.com/event/west-texas-crude-5/
END:VEVENT
BEGIN:VEVENT
DTSTART;TZID=Australia/Brisbane:20221119T130000
DTEND;TZID=Australia/Brisbane:20221119T160000
DTSTAMP:20260420T032512
CREATED:20220904T233604Z
LAST-MODIFIED:20221114T003414Z
UID:2553-1668862800-1668873600@royalmailgoodna.com
SUMMARY:The Wet Fish
DESCRIPTION:
URL:https://royalmailgoodna.com/event/wet-fish/
END:VEVENT
BEGIN:VEVENT
DTSTART;TZID=Australia/Brisbane:20221118T180000
DTEND;TZID=Australia/Brisbane:20221118T210000
DTSTAMP:20260420T032512
CREATED:20221114T034659Z
LAST-MODIFIED:20221114T034659Z
UID:2650-1668794400-1668805200@royalmailgoodna.com
SUMMARY:4 String Phil
DESCRIPTION:
URL:https://royalmailgoodna.com/event/4-string-phil/
END:VEVENT
BEGIN:VEVENT
DTSTART;TZID=Australia/Brisbane:20221117T153000
DTEND;TZID=Australia/Brisbane:20221117T193000
DTSTAMP:20260420T032512
CREATED:20220904T233858Z
LAST-MODIFIED:20220904T233858Z
UID:2557-1668699000-1668713400@royalmailgoodna.com
SUMMARY:Royal Mail Jam Session
DESCRIPTION:
URL:https://royalmailgoodna.com/event/royal-mail-jam-session-21/
END:VEVENT
BEGIN:VEVENT
DTSTART;TZID=Australia/Brisbane:20221112T170000
DTEND;TZID=Australia/Brisbane:20221112T200000
DTSTAMP:20260420T032512
CREATED:20220904T233129Z
LAST-MODIFIED:20220904T233129Z
UID:2547-1668272400-1668283200@royalmailgoodna.com
SUMMARY:Crescent City Players
DESCRIPTION:
URL:https://royalmailgoodna.com/event/crescent-city-players-2/
END:VEVENT
BEGIN:VEVENT
DTSTART;TZID=Australia/Brisbane:20221112T133000
DTEND;TZID=Australia/Brisbane:20221112T163000
DTSTAMP:20260420T032512
CREATED:20220904T233003Z
LAST-MODIFIED:20221109T084529Z
UID:2545-1668259800-1668270600@royalmailgoodna.com
SUMMARY:Milan- Hendrik
DESCRIPTION:
URL:https://royalmailgoodna.com/event/belle-hendrik/
END:VEVENT
BEGIN:VEVENT
DTSTART;TZID=Australia/Brisbane:20221111T180000
DTEND;TZID=Australia/Brisbane:20221111T210000
DTSTAMP:20260420T032512
CREATED:20220904T232428Z
LAST-MODIFIED:20221109T084439Z
UID:2542-1668189600-1668200400@royalmailgoodna.com
SUMMARY:John Malcolm
DESCRIPTION:
URL:https://royalmailgoodna.com/event/two-tears-in-a-bucket-2/
END:VEVENT
BEGIN:VEVENT
DTSTART;TZID=Australia/Brisbane:20221110T153000
DTEND;TZID=Australia/Brisbane:20221110T193000
DTSTAMP:20260420T032512
CREATED:20220904T233409Z
LAST-MODIFIED:20220904T233409Z
UID:2551-1668094200-1668108600@royalmailgoodna.com
SUMMARY:Royal Mail Jam Session
DESCRIPTION:
URL:https://royalmailgoodna.com/event/royal-mail-jam-session-20/
END:VEVENT
BEGIN:VEVENT
DTSTART;TZID=Australia/Brisbane:20221105T163000
DTEND;TZID=Australia/Brisbane:20221105T193000
DTSTAMP:20260420T032512
CREATED:20220904T232218Z
LAST-MODIFIED:20220904T232218Z
UID:2540-1667665800-1667676600@royalmailgoodna.com
SUMMARY:Dezzie D and The Stingrayz
DESCRIPTION:
URL:https://royalmailgoodna.com/event/dezzie-d-and-the-stingrayz-5/
END:VEVENT
BEGIN:VEVENT
DTSTART;TZID=Australia/Brisbane:20221105T130000
DTEND;TZID=Australia/Brisbane:20221105T160000
DTSTAMP:20260420T032512
CREATED:20220904T231454Z
LAST-MODIFIED:20220904T231646Z
UID:2538-1667653200-1667664000@royalmailgoodna.com
SUMMARY:Byron Short
DESCRIPTION:
URL:https://royalmailgoodna.com/event/byron-short/
END:VEVENT
BEGIN:VEVENT
DTSTART;TZID=Australia/Brisbane:20221104T180000
DTEND;TZID=Australia/Brisbane:20221104T210000
DTSTAMP:20260420T032512
CREATED:20220912T062544Z
LAST-MODIFIED:20220912T062544Z
UID:2576-1667584800-1667595600@royalmailgoodna.com
SUMMARY:Mojo Webb
DESCRIPTION:
URL:https://royalmailgoodna.com/event/mojo-webb-2/
END:VEVENT
BEGIN:VEVENT
DTSTART;TZID=Australia/Brisbane:20221103T153000
DTEND;TZID=Australia/Brisbane:20221103T193000
DTSTAMP:20260420T032512
CREATED:20220904T233224Z
LAST-MODIFIED:20220904T233224Z
UID:2549-1667489400-1667503800@royalmailgoodna.com
SUMMARY:Royal Mail Jam Session
DESCRIPTION:
URL:https://royalmailgoodna.com/event/royal-mail-jam-session-19/
END:VEVENT
END:VCALENDAR