BEGIN:VCALENDAR
VERSION:2.0
PRODID:-//Royal Mail Hotel - ECPv6.15.20//NONSGML v1.0//EN
CALSCALE:GREGORIAN
METHOD:PUBLISH
X-WR-CALNAME:Royal Mail Hotel
X-ORIGINAL-URL:https://royalmailgoodna.com
X-WR-CALDESC:Events for Royal Mail Hotel
REFRESH-INTERVAL;VALUE=DURATION:PT1H
X-Robots-Tag:noindex
X-PUBLISHED-TTL:PT1H
BEGIN:VTIMEZONE
TZID:Australia/Brisbane
BEGIN:STANDARD
TZOFFSETFROM:+1000
TZOFFSETTO:+1000
TZNAME:AEST
DTSTART:20200101T000000
END:STANDARD
END:VTIMEZONE
BEGIN:VEVENT
DTSTART;TZID=Australia/Brisbane:20211217T180000
DTEND;TZID=Australia/Brisbane:20211217T180000
DTSTAMP:20260423T090242
CREATED:20211122T062907Z
LAST-MODIFIED:20211122T062907Z
UID:1844-1639764000-1639764000@royalmailgoodna.com
SUMMARY:Royal Mail Blues Jam with Cecil
DESCRIPTION:
URL:https://royalmailgoodna.com/event/royal-mail-blues-jam-with-cecil/
END:VEVENT
BEGIN:VEVENT
DTSTART;TZID=Australia/Brisbane:20211211T160000
DTEND;TZID=Australia/Brisbane:20211211T160000
DTSTAMP:20260423T090242
CREATED:20211122T062749Z
LAST-MODIFIED:20211129T003219Z
UID:1842-1639238400-1639238400@royalmailgoodna.com
SUMMARY:Marshall and The Fro
DESCRIPTION:
URL:https://royalmailgoodna.com/event/marshall-and-the-fro/
END:VEVENT
BEGIN:VEVENT
DTSTART;TZID=Australia/Brisbane:20211211T130000
DTEND;TZID=Australia/Brisbane:20211211T130000
DTSTAMP:20260423T090242
CREATED:20211122T062712Z
LAST-MODIFIED:20211122T062712Z
UID:1840-1639227600-1639227600@royalmailgoodna.com
SUMMARY:Adam Hole Band
DESCRIPTION:
URL:https://royalmailgoodna.com/event/adam-hole-band/
END:VEVENT
BEGIN:VEVENT
DTSTART;TZID=Australia/Brisbane:20211210T180000
DTEND;TZID=Australia/Brisbane:20211210T180000
DTSTAMP:20260423T090242
CREATED:20211122T062515Z
LAST-MODIFIED:20211122T062515Z
UID:1838-1639159200-1639159200@royalmailgoodna.com
SUMMARY:Rouge Elements
DESCRIPTION:
URL:https://royalmailgoodna.com/event/rouge-elements/
END:VEVENT
BEGIN:VEVENT
DTSTART;TZID=Australia/Brisbane:20211204T160000
DTEND;TZID=Australia/Brisbane:20211204T160000
DTSTAMP:20260423T090242
CREATED:20211101T005438Z
LAST-MODIFIED:20211101T005438Z
UID:1823-1638633600-1638633600@royalmailgoodna.com
SUMMARY:Dezzie D and The Stingrayz
DESCRIPTION:
URL:https://royalmailgoodna.com/event/dezzie-d-and-the-stingrayz/
END:VEVENT
BEGIN:VEVENT
DTSTART;TZID=Australia/Brisbane:20211204T130000
DTEND;TZID=Australia/Brisbane:20211204T130000
DTSTAMP:20260423T090242
CREATED:20211101T005350Z
LAST-MODIFIED:20211129T003341Z
UID:1821-1638622800-1638622800@royalmailgoodna.com
SUMMARY:Superfry'd
DESCRIPTION:
URL:https://royalmailgoodna.com/event/superfryd-soul/
END:VEVENT
BEGIN:VEVENT
DTSTART;TZID=Australia/Brisbane:20211203T180000
DTEND;TZID=Australia/Brisbane:20211203T180000
DTSTAMP:20260423T090242
CREATED:20211122T062412Z
LAST-MODIFIED:20211122T062412Z
UID:1836-1638554400-1638554400@royalmailgoodna.com
SUMMARY:Slow Cooker
DESCRIPTION:
URL:https://royalmailgoodna.com/event/slow-cooker-3/
END:VEVENT
BEGIN:VEVENT
DTSTART;TZID=Australia/Brisbane:20211128T130000
DTEND;TZID=Australia/Brisbane:20211128T130000
DTSTAMP:20260423T090242
CREATED:20211115T003144Z
LAST-MODIFIED:20211122T065500Z
UID:1830-1638104400-1638104400@royalmailgoodna.com
SUMMARY:BASEQ JAM with Massive Fergusons
DESCRIPTION:
URL:https://royalmailgoodna.com/event/massive-fergusons/
ATTACH;FMTTYPE=image/jpeg:https://royalmailgoodna.com/wp-content/uploads/2021/11/661C7CB3-3D33-41ED-80EE-E9A3BFF296A9.jpeg
END:VEVENT
BEGIN:VEVENT
DTSTART;TZID=Australia/Brisbane:20211127T170000
DTEND;TZID=Australia/Brisbane:20211127T170000
DTSTAMP:20260423T090242
CREATED:20211101T005146Z
LAST-MODIFIED:20211122T065352Z
UID:1817-1638032400-1638032400@royalmailgoodna.com
SUMMARY:Ellie Jane Band
DESCRIPTION:
URL:https://royalmailgoodna.com/event/ellie-jane-band/
ATTACH;FMTTYPE=image/jpeg:https://royalmailgoodna.com/wp-content/uploads/2021/11/977D18A7-FF22-448D-9116-B69F0B4879E6.jpeg
END:VEVENT
BEGIN:VEVENT
DTSTART;TZID=Australia/Brisbane:20211127T130000
DTEND;TZID=Australia/Brisbane:20211127T130000
DTSTAMP:20260423T090242
CREATED:20211101T005105Z
LAST-MODIFIED:20211101T005105Z
UID:1815-1638018000-1638018000@royalmailgoodna.com
SUMMARY:The Pickletones
DESCRIPTION:
URL:https://royalmailgoodna.com/event/the-pickletones/
END:VEVENT
BEGIN:VEVENT
DTSTART;TZID=Australia/Brisbane:20211126T180000
DTEND;TZID=Australia/Brisbane:20211126T180000
DTSTAMP:20260423T090242
CREATED:20211101T004957Z
LAST-MODIFIED:20211122T065033Z
UID:1813-1637949600-1637949600@royalmailgoodna.com
SUMMARY:Mojo Webb
DESCRIPTION:
URL:https://royalmailgoodna.com/event/mojo-webb/
ATTACH;FMTTYPE=image/jpeg:https://royalmailgoodna.com/wp-content/uploads/2021/11/398D9394-94AB-4DF3-BBF6-6B0C00E0258F.jpeg
END:VEVENT
BEGIN:VEVENT
DTSTART;TZID=Australia/Brisbane:20211120T170000
DTEND;TZID=Australia/Brisbane:20211120T170000
DTSTAMP:20260423T090242
CREATED:20211101T004928Z
LAST-MODIFIED:20211101T004928Z
UID:1811-1637427600-1637427600@royalmailgoodna.com
SUMMARY:West Texas Crude
DESCRIPTION:
URL:https://royalmailgoodna.com/event/west-texas-crude-2/
END:VEVENT
BEGIN:VEVENT
DTSTART;TZID=Australia/Brisbane:20211120T140000
DTEND;TZID=Australia/Brisbane:20211120T140000
DTSTAMP:20260423T090242
CREATED:20211101T004906Z
LAST-MODIFIED:20211101T004906Z
UID:1809-1637416800-1637416800@royalmailgoodna.com
SUMMARY:Danny Widdicombe Duo
DESCRIPTION:
URL:https://royalmailgoodna.com/event/danny-widdicombe-duo/
END:VEVENT
BEGIN:VEVENT
DTSTART;TZID=Australia/Brisbane:20211119T190000
DTEND;TZID=Australia/Brisbane:20211119T190000
DTSTAMP:20260423T090242
CREATED:20211101T004723Z
LAST-MODIFIED:20211101T004723Z
UID:1806-1637348400-1637348400@royalmailgoodna.com
SUMMARY:RM Blues Band Jam with Cecil
DESCRIPTION:
URL:https://royalmailgoodna.com/event/rm-blues-band-jam-with-cecil-2/
END:VEVENT
BEGIN:VEVENT
DTSTART;TZID=Australia/Brisbane:20211114T140000
DTEND;TZID=Australia/Brisbane:20211114T140000
DTSTAMP:20260423T090242
CREATED:20211108T071001Z
LAST-MODIFIED:20211108T071001Z
UID:1827-1636898400-1636898400@royalmailgoodna.com
SUMMARY:Fiona Boyes
DESCRIPTION:
URL:https://royalmailgoodna.com/event/fiona-boyes/
END:VEVENT
BEGIN:VEVENT
DTSTART;TZID=Australia/Brisbane:20211113T163000
DTEND;TZID=Australia/Brisbane:20211113T163000
DTSTAMP:20260423T090242
CREATED:20211101T004621Z
LAST-MODIFIED:20211101T004621Z
UID:1803-1636821000-1636821000@royalmailgoodna.com
SUMMARY:Vix and The Slick Chix
DESCRIPTION:
URL:https://royalmailgoodna.com/event/vix-and-the-slick-chix/
END:VEVENT
BEGIN:VEVENT
DTSTART;TZID=Australia/Brisbane:20211113T130000
DTEND;TZID=Australia/Brisbane:20211113T130000
DTSTAMP:20260423T090242
CREATED:20211101T004544Z
LAST-MODIFIED:20211101T004544Z
UID:1801-1636808400-1636808400@royalmailgoodna.com
SUMMARY:Alpha Stomp
DESCRIPTION:
URL:https://royalmailgoodna.com/event/alpha-stomp/
END:VEVENT
BEGIN:VEVENT
DTSTART;TZID=Australia/Brisbane:20211112T180000
DTEND;TZID=Australia/Brisbane:20211112T180000
DTSTAMP:20260423T090242
CREATED:20211101T004445Z
LAST-MODIFIED:20211101T004445Z
UID:1798-1636740000-1636740000@royalmailgoodna.com
SUMMARY:Pop Standen
DESCRIPTION:
URL:https://royalmailgoodna.com/event/pop-standen/
END:VEVENT
BEGIN:VEVENT
DTSTART;TZID=Australia/Brisbane:20211106T160000
DTEND;TZID=Australia/Brisbane:20211106T160000
DTSTAMP:20260423T090242
CREATED:20211101T003249Z
LAST-MODIFIED:20211101T003249Z
UID:1795-1636214400-1636214400@royalmailgoodna.com
SUMMARY:Buzz & The Blues Band
DESCRIPTION:
URL:https://royalmailgoodna.com/event/buzz-the-blues-band/
END:VEVENT
BEGIN:VEVENT
DTSTART;TZID=Australia/Brisbane:20211106T130000
DTEND;TZID=Australia/Brisbane:20211106T130000
DTSTAMP:20260423T090242
CREATED:20211101T003039Z
LAST-MODIFIED:20211101T003039Z
UID:1792-1636203600-1636203600@royalmailgoodna.com
SUMMARY:Ben Whiting
DESCRIPTION:
URL:https://royalmailgoodna.com/event/ben-whiting/
END:VEVENT
BEGIN:VEVENT
DTSTART;TZID=Australia/Brisbane:20211105T180000
DTEND;TZID=Australia/Brisbane:20211105T180000
DTSTAMP:20260423T090242
CREATED:20211101T002952Z
LAST-MODIFIED:20211101T002952Z
UID:1790-1636135200-1636135200@royalmailgoodna.com
SUMMARY:Simon & The Colonel
DESCRIPTION:
URL:https://royalmailgoodna.com/event/simon-the-colonel/
END:VEVENT
BEGIN:VEVENT
DTSTART;TZID=Australia/Brisbane:20211031T130000
DTEND;TZID=Australia/Brisbane:20211031T130000
DTSTAMP:20260423T090242
CREATED:20211027T054102Z
LAST-MODIFIED:20211027T054102Z
UID:1784-1635685200-1635685200@royalmailgoodna.com
SUMMARY:BASEQ Jam with Tracey Hammell Band
DESCRIPTION:
URL:https://royalmailgoodna.com/event/baseq-jam-with-tracey-hammell-band/
END:VEVENT
BEGIN:VEVENT
DTSTART;TZID=Australia/Brisbane:20211030T163000
DTEND;TZID=Australia/Brisbane:20211030T163000
DTSTAMP:20260423T090242
CREATED:20211027T053910Z
LAST-MODIFIED:20211027T053910Z
UID:1782-1635611400-1635611400@royalmailgoodna.com
SUMMARY:The GrooveMasters
DESCRIPTION:
URL:https://royalmailgoodna.com/event/the-groovemasters/
END:VEVENT
BEGIN:VEVENT
DTSTART;TZID=Australia/Brisbane:20211030T133000
DTEND;TZID=Australia/Brisbane:20211030T133000
DTSTAMP:20260423T090242
CREATED:20211027T053823Z
LAST-MODIFIED:20211027T053823Z
UID:1780-1635600600-1635600600@royalmailgoodna.com
SUMMARY:Coojee & JB
DESCRIPTION:
URL:https://royalmailgoodna.com/event/coojee-jb/
END:VEVENT
BEGIN:VEVENT
DTSTART;TZID=Australia/Brisbane:20211029T180000
DTEND;TZID=Australia/Brisbane:20211029T180000
DTSTAMP:20260423T090242
CREATED:20211027T055211Z
LAST-MODIFIED:20211027T055211Z
UID:1788-1635530400-1635530400@royalmailgoodna.com
SUMMARY:RM Blues Band Jam with Cecil
DESCRIPTION:
URL:https://royalmailgoodna.com/event/rm-blues-band-jam-with-cecil/
END:VEVENT
BEGIN:VEVENT
DTSTART;TZID=Australia/Brisbane:20211023T170000
DTEND;TZID=Australia/Brisbane:20211023T170000
DTSTAMP:20260423T090242
CREATED:20211020T065756Z
LAST-MODIFIED:20211020T065756Z
UID:1761-1635008400-1635008400@royalmailgoodna.com
SUMMARY:West Texas Crude
DESCRIPTION:
URL:https://royalmailgoodna.com/event/west-texas-crude/
END:VEVENT
BEGIN:VEVENT
DTSTART;TZID=Australia/Brisbane:20211023T140000
DTEND;TZID=Australia/Brisbane:20211023T140000
DTSTAMP:20260423T090242
CREATED:20211020T065722Z
LAST-MODIFIED:20211020T065722Z
UID:1759-1634997600-1634997600@royalmailgoodna.com
SUMMARY:The Mojo Webb Band
DESCRIPTION:
URL:https://royalmailgoodna.com/event/the-mojo-webb-band/
END:VEVENT
BEGIN:VEVENT
DTSTART;TZID=Australia/Brisbane:20211022T180000
DTEND;TZID=Australia/Brisbane:20211022T180000
DTSTAMP:20260423T090242
CREATED:20211020T065342Z
LAST-MODIFIED:20211020T065342Z
UID:1757-1634925600-1634925600@royalmailgoodna.com
SUMMARY:Slow Cooker
DESCRIPTION:
URL:https://royalmailgoodna.com/event/slow-cooker-2/
END:VEVENT
BEGIN:VEVENT
DTSTART;TZID=Australia/Brisbane:20211017T140000
DTEND;TZID=Australia/Brisbane:20211017T140000
DTSTAMP:20260423T090242
CREATED:20210921T125314Z
LAST-MODIFIED:20211012T092412Z
UID:1638-1634479200-1634479200@royalmailgoodna.com
SUMMARY:Laine & Levi
DESCRIPTION:
URL:https://royalmailgoodna.com/event/laine-levi/
CATEGORIES:Blues & Roots
END:VEVENT
BEGIN:VEVENT
DTSTART;TZID=Australia/Brisbane:20211016T170000
DTEND;TZID=Australia/Brisbane:20211016T170000
DTSTAMP:20260423T090242
CREATED:20211012T092322Z
LAST-MODIFIED:20211013T090632Z
UID:1752-1634403600-1634403600@royalmailgoodna.com
SUMMARY:Josh Cheyenne Band
DESCRIPTION:
URL:https://royalmailgoodna.com/event/josh-cheyenne-band/
END:VEVENT
END:VCALENDAR