BEGIN:VCALENDAR
VERSION:2.0
PRODID:-//Royal Mail Hotel - ECPv6.15.20//NONSGML v1.0//EN
CALSCALE:GREGORIAN
METHOD:PUBLISH
X-WR-CALNAME:Royal Mail Hotel
X-ORIGINAL-URL:https://royalmailgoodna.com
X-WR-CALDESC:Events for Royal Mail Hotel
REFRESH-INTERVAL;VALUE=DURATION:PT1H
X-Robots-Tag:noindex
X-PUBLISHED-TTL:PT1H
BEGIN:VTIMEZONE
TZID:Australia/Brisbane
BEGIN:STANDARD
TZOFFSETFROM:+1000
TZOFFSETTO:+1000
TZNAME:AEST
DTSTART:20220101T000000
END:STANDARD
END:VTIMEZONE
BEGIN:VEVENT
DTSTART;TZID=Australia/Brisbane:20230218T130000
DTEND;TZID=Australia/Brisbane:20230218T160000
DTSTAMP:20260420T065042
CREATED:20230118T015035Z
LAST-MODIFIED:20230118T015035Z
UID:2805-1676725200-1676736000@royalmailgoodna.com
SUMMARY:Mojo Webb
DESCRIPTION:
URL:https://royalmailgoodna.com/event/mojo-webb-3/
END:VEVENT
BEGIN:VEVENT
DTSTART;TZID=Australia/Brisbane:20230218T163000
DTEND;TZID=Australia/Brisbane:20230218T193000
DTSTAMP:20260420T065042
CREATED:20221204T003915Z
LAST-MODIFIED:20221204T003915Z
UID:2675-1676737800-1676748600@royalmailgoodna.com
SUMMARY:Peaches & the Alphasonics
DESCRIPTION:
URL:https://royalmailgoodna.com/event/peaches-the-alphasonics-3/
END:VEVENT
END:VCALENDAR