BEGIN:VCALENDAR
VERSION:2.0
PRODID:-//Royal Mail Hotel - ECPv6.15.20//NONSGML v1.0//EN
CALSCALE:GREGORIAN
METHOD:PUBLISH
X-WR-CALNAME:Royal Mail Hotel
X-ORIGINAL-URL:https://royalmailgoodna.com
X-WR-CALDESC:Events for Royal Mail Hotel
REFRESH-INTERVAL;VALUE=DURATION:PT1H
X-Robots-Tag:noindex
X-PUBLISHED-TTL:PT1H
BEGIN:VTIMEZONE
TZID:Australia/Brisbane
BEGIN:STANDARD
TZOFFSETFROM:+1000
TZOFFSETTO:+1000
TZNAME:AEST
DTSTART:20220101T000000
END:STANDARD
END:VTIMEZONE
BEGIN:VEVENT
DTSTART;TZID=Australia/Brisbane:20230203T180000
DTEND;TZID=Australia/Brisbane:20230203T210000
DTSTAMP:20260420T111313
CREATED:20230120T023036Z
LAST-MODIFIED:20230120T023036Z
UID:2815-1675447200-1675458000@royalmailgoodna.com
SUMMARY:John Malcolm
DESCRIPTION:
URL:https://royalmailgoodna.com/event/john-malcolm-4/
END:VEVENT
END:VCALENDAR