BEGIN:VCALENDAR
VERSION:2.0
PRODID:-//Royal Mail Hotel - ECPv6.15.20//NONSGML v1.0//EN
CALSCALE:GREGORIAN
METHOD:PUBLISH
X-WR-CALNAME:Royal Mail Hotel
X-ORIGINAL-URL:https://royalmailgoodna.com
X-WR-CALDESC:Events for Royal Mail Hotel
REFRESH-INTERVAL;VALUE=DURATION:PT1H
X-Robots-Tag:noindex
X-PUBLISHED-TTL:PT1H
BEGIN:VTIMEZONE
TZID:Australia/Brisbane
BEGIN:STANDARD
TZOFFSETFROM:+1000
TZOFFSETTO:+1000
TZNAME:AEST
DTSTART:20220101T000000
END:STANDARD
END:VTIMEZONE
BEGIN:VEVENT
DTSTART;TZID=Australia/Brisbane:20230202T153000
DTEND;TZID=Australia/Brisbane:20230202T193000
DTSTAMP:20260419T223551
CREATED:20230109T230724Z
LAST-MODIFIED:20230109T230855Z
UID:2738-1675351800-1675366200@royalmailgoodna.com
SUMMARY:Royal Mail Jam Session
DESCRIPTION:
URL:https://royalmailgoodna.com/event/royal-mail-jam-session-28/
END:VEVENT
END:VCALENDAR