BEGIN:VCALENDAR
VERSION:2.0
PRODID:-//Royal Mail Hotel - ECPv6.15.20//NONSGML v1.0//EN
CALSCALE:GREGORIAN
METHOD:PUBLISH
X-ORIGINAL-URL:https://royalmailgoodna.com
X-WR-CALDESC:Events for Royal Mail Hotel
REFRESH-INTERVAL;VALUE=DURATION:PT1H
X-Robots-Tag:noindex
X-PUBLISHED-TTL:PT1H
BEGIN:VTIMEZONE
TZID:Australia/Brisbane
BEGIN:STANDARD
TZOFFSETFROM:+1000
TZOFFSETTO:+1000
TZNAME:AEST
DTSTART:20220101T000000
END:STANDARD
END:VTIMEZONE
BEGIN:VEVENT
DTSTART;TZID=Australia/Brisbane:20230121T130000
DTEND;TZID=Australia/Brisbane:20230121T160000
DTSTAMP:20260420T200235
CREATED:20230117T010228Z
LAST-MODIFIED:20230117T010228Z
UID:2801-1674306000-1674316800@royalmailgoodna.com
SUMMARY:Mick Diggles
DESCRIPTION:
URL:https://royalmailgoodna.com/event/mick-diggles/
END:VEVENT
BEGIN:VEVENT
DTSTART;TZID=Australia/Brisbane:20230121T163000
DTEND;TZID=Australia/Brisbane:20230121T193000
DTSTAMP:20260420T200235
CREATED:20221204T003312Z
LAST-MODIFIED:20221204T003312Z
UID:2667-1674318600-1674329400@royalmailgoodna.com
SUMMARY:The Pickletones
DESCRIPTION:
URL:https://royalmailgoodna.com/event/the-pickletones-4/
END:VEVENT
END:VCALENDAR