BEGIN:VCALENDAR
VERSION:2.0
PRODID:-//Royal Mail Hotel - ECPv6.15.20//NONSGML v1.0//EN
CALSCALE:GREGORIAN
METHOD:PUBLISH
X-WR-CALNAME:Royal Mail Hotel
X-ORIGINAL-URL:https://royalmailgoodna.com
X-WR-CALDESC:Events for Royal Mail Hotel
REFRESH-INTERVAL;VALUE=DURATION:PT1H
X-Robots-Tag:noindex
X-PUBLISHED-TTL:PT1H
BEGIN:VTIMEZONE
TZID:Australia/Brisbane
BEGIN:STANDARD
TZOFFSETFROM:+1000
TZOFFSETTO:+1000
TZNAME:AEST
DTSTART:20220101T000000
END:STANDARD
END:VTIMEZONE
BEGIN:VEVENT
DTSTART;TZID=Australia/Brisbane:20230114T150000
DTEND;TZID=Australia/Brisbane:20230114T180000
DTSTAMP:20260422T124449
CREATED:20221204T003119Z
LAST-MODIFIED:20221214T041846Z
UID:2665-1673708400-1673719200@royalmailgoodna.com
SUMMARY:Rouge Elements
DESCRIPTION:
URL:https://royalmailgoodna.com/event/method/
END:VEVENT
BEGIN:VEVENT
DTSTART;TZID=Australia/Brisbane:20230114T180000
DTEND;TZID=Australia/Brisbane:20230114T210000
DTSTAMP:20260422T124449
CREATED:20230105T222240Z
LAST-MODIFIED:20230105T222341Z
UID:2729-1673719200-1673730000@royalmailgoodna.com
SUMMARY:Zed Charles
DESCRIPTION:
URL:https://royalmailgoodna.com/event/zed-charles-4/
END:VEVENT
END:VCALENDAR