BEGIN:VCALENDAR
VERSION:2.0
PRODID:-//Royal Mail Hotel - ECPv6.15.20//NONSGML v1.0//EN
CALSCALE:GREGORIAN
METHOD:PUBLISH
X-WR-CALNAME:Royal Mail Hotel
X-ORIGINAL-URL:https://royalmailgoodna.com
X-WR-CALDESC:Events for Royal Mail Hotel
REFRESH-INTERVAL;VALUE=DURATION:PT1H
X-Robots-Tag:noindex
X-PUBLISHED-TTL:PT1H
BEGIN:VTIMEZONE
TZID:Australia/Brisbane
BEGIN:STANDARD
TZOFFSETFROM:+1000
TZOFFSETTO:+1000
TZNAME:AEST
DTSTART:20220101T000000
END:STANDARD
END:VTIMEZONE
BEGIN:VEVENT
DTSTART;TZID=Australia/Brisbane:20230107T150000
DTEND;TZID=Australia/Brisbane:20230107T180000
DTSTAMP:20260422T124450
CREATED:20221204T002928Z
LAST-MODIFIED:20221204T002939Z
UID:2663-1673103600-1673114400@royalmailgoodna.com
SUMMARY:Adam Hole
DESCRIPTION:
URL:https://royalmailgoodna.com/event/adam-hole/
END:VEVENT
END:VCALENDAR