BEGIN:VCALENDAR
VERSION:2.0
PRODID:-//Royal Mail Hotel - ECPv6.15.20//NONSGML v1.0//EN
CALSCALE:GREGORIAN
METHOD:PUBLISH
X-WR-CALNAME:Royal Mail Hotel
X-ORIGINAL-URL:https://royalmailgoodna.com
X-WR-CALDESC:Events for Royal Mail Hotel
REFRESH-INTERVAL;VALUE=DURATION:PT1H
X-Robots-Tag:noindex
X-PUBLISHED-TTL:PT1H
BEGIN:VTIMEZONE
TZID:Australia/Brisbane
BEGIN:STANDARD
TZOFFSETFROM:+1000
TZOFFSETTO:+1000
TZNAME:AEST
DTSTART:20210101T000000
END:STANDARD
END:VTIMEZONE
BEGIN:VEVENT
DTSTART;TZID=Australia/Brisbane:20221231T130000
DTEND;TZID=Australia/Brisbane:20221231T160000
DTSTAMP:20260420T200237
CREATED:20221204T002832Z
LAST-MODIFIED:20221204T004318Z
UID:2661-1672491600-1672502400@royalmailgoodna.com
SUMMARY:Mick Diggles and The Blues Doctors
DESCRIPTION:
URL:https://royalmailgoodna.com/event/the-blues-doctors/
END:VEVENT
BEGIN:VEVENT
DTSTART;TZID=Australia/Brisbane:20221231T170000
DTEND;TZID=Australia/Brisbane:20221231T200000
DTSTAMP:20260420T200237
CREATED:20220919T010318Z
LAST-MODIFIED:20220919T010318Z
UID:2598-1672506000-1672516800@royalmailgoodna.com
SUMMARY:Buzz and the Blues Band
DESCRIPTION:
URL:https://royalmailgoodna.com/event/buzz-and-the-blues-band-5/
END:VEVENT
BEGIN:VEVENT
DTSTART;TZID=Australia/Brisbane:20221231T203000
DTEND;TZID=Australia/Brisbane:20230101T000000
DTSTAMP:20260420T200237
CREATED:20220919T010427Z
LAST-MODIFIED:20221024T001010Z
UID:2600-1672518600-1672531200@royalmailgoodna.com
SUMMARY:Kyte
DESCRIPTION:
URL:https://royalmailgoodna.com/event/kyte/
END:VEVENT
END:VCALENDAR