BEGIN:VCALENDAR
VERSION:2.0
PRODID:-//Royal Mail Hotel - ECPv6.15.20//NONSGML v1.0//EN
CALSCALE:GREGORIAN
METHOD:PUBLISH
X-ORIGINAL-URL:https://royalmailgoodna.com
X-WR-CALDESC:Events for Royal Mail Hotel
REFRESH-INTERVAL;VALUE=DURATION:PT1H
X-Robots-Tag:noindex
X-PUBLISHED-TTL:PT1H
BEGIN:VTIMEZONE
TZID:Australia/Brisbane
BEGIN:STANDARD
TZOFFSETFROM:+1000
TZOFFSETTO:+1000
TZNAME:AEST
DTSTART:20210101T000000
END:STANDARD
END:VTIMEZONE
BEGIN:VEVENT
DTSTART;TZID=Australia/Brisbane:20221203T133000
DTEND;TZID=Australia/Brisbane:20221203T163000
DTSTAMP:20260419T233922
CREATED:20221124T065959Z
LAST-MODIFIED:20221124T065959Z
UID:2654-1670074200-1670085000@royalmailgoodna.com
SUMMARY:Deja Blues
DESCRIPTION:
URL:https://royalmailgoodna.com/event/deja-blues/
END:VEVENT
BEGIN:VEVENT
DTSTART;TZID=Australia/Brisbane:20221203T163000
DTEND;TZID=Australia/Brisbane:20221203T193000
DTSTAMP:20260419T233922
CREATED:20220919T005955Z
LAST-MODIFIED:20221124T065847Z
UID:2592-1670085000-1670095800@royalmailgoodna.com
SUMMARY:Shotgun Sam
DESCRIPTION:
URL:https://royalmailgoodna.com/event/shotgun-sam/
END:VEVENT
END:VCALENDAR