BEGIN:VCALENDAR
VERSION:2.0
PRODID:-//Royal Mail Hotel - ECPv6.15.20//NONSGML v1.0//EN
CALSCALE:GREGORIAN
METHOD:PUBLISH
X-ORIGINAL-URL:https://royalmailgoodna.com
X-WR-CALDESC:Events for Royal Mail Hotel
REFRESH-INTERVAL;VALUE=DURATION:PT1H
X-Robots-Tag:noindex
X-PUBLISHED-TTL:PT1H
BEGIN:VTIMEZONE
TZID:Australia/Brisbane
BEGIN:STANDARD
TZOFFSETFROM:+1000
TZOFFSETTO:+1000
TZNAME:AEST
DTSTART:20210101T000000
END:STANDARD
END:VTIMEZONE
BEGIN:VEVENT
DTSTART;TZID=Australia/Brisbane:20221029T130000
DTEND;TZID=Australia/Brisbane:20221029T160000
DTSTAMP:20260422T024730
CREATED:20220815T060512Z
LAST-MODIFIED:20221017T041454Z
UID:2496-1667048400-1667059200@royalmailgoodna.com
SUMMARY:The Swamp Stompers
DESCRIPTION:
URL:https://royalmailgoodna.com/event/swamp-stompers/
END:VEVENT
BEGIN:VEVENT
DTSTART;TZID=Australia/Brisbane:20221029T170000
DTEND;TZID=Australia/Brisbane:20221029T200000
DTSTAMP:20260422T024730
CREATED:20220815T060554Z
LAST-MODIFIED:20221024T000930Z
UID:2498-1667062800-1667073600@royalmailgoodna.com
SUMMARY:Z-Star Trinity
DESCRIPTION:
URL:https://royalmailgoodna.com/event/z-star/
END:VEVENT
END:VCALENDAR