BEGIN:VCALENDAR
VERSION:2.0
PRODID:-//Royal Mail Hotel - ECPv6.15.20//NONSGML v1.0//EN
CALSCALE:GREGORIAN
METHOD:PUBLISH
X-WR-CALNAME:Royal Mail Hotel
X-ORIGINAL-URL:https://royalmailgoodna.com
X-WR-CALDESC:Events for Royal Mail Hotel
REFRESH-INTERVAL;VALUE=DURATION:PT1H
X-Robots-Tag:noindex
X-PUBLISHED-TTL:PT1H
BEGIN:VTIMEZONE
TZID:Australia/Brisbane
BEGIN:STANDARD
TZOFFSETFROM:+1000
TZOFFSETTO:+1000
TZNAME:AEST
DTSTART:20210101T000000
END:STANDARD
END:VTIMEZONE
BEGIN:VEVENT
DTSTART;TZID=Australia/Brisbane:20221015T133000
DTEND;TZID=Australia/Brisbane:20221015T163000
DTSTAMP:20260421T233215
CREATED:20220815T060122Z
LAST-MODIFIED:20220815T060122Z
UID:2488-1665840600-1665851400@royalmailgoodna.com
SUMMARY:Peaches & the Alphasonics
DESCRIPTION:
URL:https://royalmailgoodna.com/event/peaches-the-alphasonics-2/
END:VEVENT
BEGIN:VEVENT
DTSTART;TZID=Australia/Brisbane:20221015T170000
DTEND;TZID=Australia/Brisbane:20221015T200000
DTSTAMP:20260421T233215
CREATED:20220815T060242Z
LAST-MODIFIED:20220815T060242Z
UID:2490-1665853200-1665864000@royalmailgoodna.com
SUMMARY:Buzz & the Blues Band
DESCRIPTION:
URL:https://royalmailgoodna.com/event/buzz-the-blues-band-2/
END:VEVENT
END:VCALENDAR