BEGIN:VCALENDAR
VERSION:2.0
PRODID:-//Royal Mail Hotel - ECPv6.15.20//NONSGML v1.0//EN
CALSCALE:GREGORIAN
METHOD:PUBLISH
X-WR-CALNAME:Royal Mail Hotel
X-ORIGINAL-URL:https://royalmailgoodna.com
X-WR-CALDESC:Events for Royal Mail Hotel
REFRESH-INTERVAL;VALUE=DURATION:PT1H
X-Robots-Tag:noindex
X-PUBLISHED-TTL:PT1H
BEGIN:VTIMEZONE
TZID:Australia/Brisbane
BEGIN:STANDARD
TZOFFSETFROM:+1000
TZOFFSETTO:+1000
TZNAME:AEST
DTSTART:20210101T000000
END:STANDARD
END:VTIMEZONE
BEGIN:VEVENT
DTSTART;TZID=Australia/Brisbane:20220910T120000
DTEND;TZID=Australia/Brisbane:20220910T140000
DTSTAMP:20260422T005907
CREATED:20220801T235640Z
LAST-MODIFIED:20220801T235640Z
UID:2453-1662811200-1662818400@royalmailgoodna.com
SUMMARY:Ruben Reeves
DESCRIPTION:
URL:https://royalmailgoodna.com/event/ruben-reeves/
END:VEVENT
BEGIN:VEVENT
DTSTART;TZID=Australia/Brisbane:20220910T140000
DTEND;TZID=Australia/Brisbane:20220910T170000
DTSTAMP:20260422T005907
CREATED:20220705T011257Z
LAST-MODIFIED:20220705T011257Z
UID:2419-1662818400-1662829200@royalmailgoodna.com
SUMMARY:Mojo Webb Band
DESCRIPTION:
URL:https://royalmailgoodna.com/event/mojo-webb-band-4/
END:VEVENT
BEGIN:VEVENT
DTSTART;TZID=Australia/Brisbane:20220910T170000
DTEND;TZID=Australia/Brisbane:20220910T200000
DTSTAMP:20260422T005907
CREATED:20220705T011103Z
LAST-MODIFIED:20220705T011103Z
UID:2417-1662829200-1662840000@royalmailgoodna.com
SUMMARY:Vix and The Slick Chix
DESCRIPTION:
URL:https://royalmailgoodna.com/event/vix-and-the-slick-chix-4/
END:VEVENT
END:VCALENDAR