BEGIN:VCALENDAR
VERSION:2.0
PRODID:-//Royal Mail Hotel - ECPv6.15.20//NONSGML v1.0//EN
CALSCALE:GREGORIAN
METHOD:PUBLISH
X-WR-CALNAME:Royal Mail Hotel
X-ORIGINAL-URL:https://royalmailgoodna.com
X-WR-CALDESC:Events for Royal Mail Hotel
REFRESH-INTERVAL;VALUE=DURATION:PT1H
X-Robots-Tag:noindex
X-PUBLISHED-TTL:PT1H
BEGIN:VTIMEZONE
TZID:Australia/Brisbane
BEGIN:STANDARD
TZOFFSETFROM:+1000
TZOFFSETTO:+1000
TZNAME:AEST
DTSTART:20210101T000000
END:STANDARD
END:VTIMEZONE
BEGIN:VEVENT
DTSTART;TZID=Australia/Brisbane:20220903T130000
DTEND;TZID=Australia/Brisbane:20220903T160000
DTSTAMP:20260422T010009
CREATED:20220705T004603Z
LAST-MODIFIED:20220705T004603Z
UID:2407-1662210000-1662220800@royalmailgoodna.com
SUMMARY:Mescalito Blues
DESCRIPTION:
URL:https://royalmailgoodna.com/event/mescalito-blues-4/
END:VEVENT
BEGIN:VEVENT
DTSTART;TZID=Australia/Brisbane:20220903T163000
DTEND;TZID=Australia/Brisbane:20220903T193000
DTSTAMP:20260422T010009
CREATED:20220705T004637Z
LAST-MODIFIED:20220705T004637Z
UID:2409-1662222600-1662233400@royalmailgoodna.com
SUMMARY:Slow Cooker
DESCRIPTION:
URL:https://royalmailgoodna.com/event/slow-cooker-6/
END:VEVENT
END:VCALENDAR