BEGIN:VCALENDAR
VERSION:2.0
PRODID:-//Royal Mail Hotel - ECPv6.15.20//NONSGML v1.0//EN
CALSCALE:GREGORIAN
METHOD:PUBLISH
X-WR-CALNAME:Royal Mail Hotel
X-ORIGINAL-URL:https://royalmailgoodna.com
X-WR-CALDESC:Events for Royal Mail Hotel
REFRESH-INTERVAL;VALUE=DURATION:PT1H
X-Robots-Tag:noindex
X-PUBLISHED-TTL:PT1H
BEGIN:VTIMEZONE
TZID:Australia/Brisbane
BEGIN:STANDARD
TZOFFSETFROM:+1000
TZOFFSETTO:+1000
TZNAME:AEST
DTSTART:20210101T000000
END:STANDARD
END:VTIMEZONE
BEGIN:VEVENT
DTSTART;TZID=Australia/Brisbane:20220820T130000
DTEND;TZID=Australia/Brisbane:20220820T160000
DTSTAMP:20260422T022357
CREATED:20220628T014917Z
LAST-MODIFIED:20220628T014917Z
UID:2343-1661000400-1661011200@royalmailgoodna.com
SUMMARY:The Pickletones
DESCRIPTION:
URL:https://royalmailgoodna.com/event/the-pickletones-2/
END:VEVENT
BEGIN:VEVENT
DTSTART;TZID=Australia/Brisbane:20220820T163000
DTEND;TZID=Australia/Brisbane:20220820T193000
DTSTAMP:20260422T022357
CREATED:20220628T015513Z
LAST-MODIFIED:20220628T021052Z
UID:2345-1661013000-1661023800@royalmailgoodna.com
SUMMARY:Dezzie D and the Stingrayz
DESCRIPTION:
URL:https://royalmailgoodna.com/event/dezzie-d-and-the-stingrayz-4/
END:VEVENT
END:VCALENDAR