BEGIN:VCALENDAR
VERSION:2.0
PRODID:-//Royal Mail Hotel - ECPv6.15.20//NONSGML v1.0//EN
CALSCALE:GREGORIAN
METHOD:PUBLISH
X-WR-CALNAME:Royal Mail Hotel
X-ORIGINAL-URL:https://royalmailgoodna.com
X-WR-CALDESC:Events for Royal Mail Hotel
REFRESH-INTERVAL;VALUE=DURATION:PT1H
X-Robots-Tag:noindex
X-PUBLISHED-TTL:PT1H
BEGIN:VTIMEZONE
TZID:Australia/Brisbane
BEGIN:STANDARD
TZOFFSETFROM:+1000
TZOFFSETTO:+1000
TZNAME:AEST
DTSTART:20210101T000000
END:STANDARD
END:VTIMEZONE
BEGIN:VEVENT
DTSTART;TZID=Australia/Brisbane:20220813T130000
DTEND;TZID=Australia/Brisbane:20220813T160000
DTSTAMP:20260422T022431
CREATED:20220622T052401Z
LAST-MODIFIED:20220628T015404Z
UID:2317-1660395600-1660406400@royalmailgoodna.com
SUMMARY:The Turnaround
DESCRIPTION:
URL:https://royalmailgoodna.com/event/the-turnaround-3/
END:VEVENT
BEGIN:VEVENT
DTSTART;TZID=Australia/Brisbane:20220813T163000
DTEND;TZID=Australia/Brisbane:20220813T193000
DTSTAMP:20260422T022431
CREATED:20220622T052634Z
LAST-MODIFIED:20220628T015425Z
UID:2319-1660408200-1660419000@royalmailgoodna.com
SUMMARY:Adam Hole Band
DESCRIPTION:
URL:https://royalmailgoodna.com/event/adam-hole-band-2/
END:VEVENT
END:VCALENDAR