BEGIN:VCALENDAR
VERSION:2.0
PRODID:-//Royal Mail Hotel - ECPv6.15.20//NONSGML v1.0//EN
CALSCALE:GREGORIAN
METHOD:PUBLISH
X-ORIGINAL-URL:https://royalmailgoodna.com
X-WR-CALDESC:Events for Royal Mail Hotel
REFRESH-INTERVAL;VALUE=DURATION:PT1H
X-Robots-Tag:noindex
X-PUBLISHED-TTL:PT1H
BEGIN:VTIMEZONE
TZID:Australia/Brisbane
BEGIN:STANDARD
TZOFFSETFROM:+1000
TZOFFSETTO:+1000
TZNAME:AEST
DTSTART:20210101T000000
END:STANDARD
END:VTIMEZONE
BEGIN:VEVENT
DTSTART;TZID=Australia/Brisbane:20220709T130000
DTEND;TZID=Australia/Brisbane:20220709T130000
DTSTAMP:20260422T051145
CREATED:20220521T035314Z
LAST-MODIFIED:20220521T035314Z
UID:2274-1657371600-1657371600@royalmailgoodna.com
SUMMARY:Pete Cullen & The Hurt
DESCRIPTION:
URL:https://royalmailgoodna.com/event/pete-cullen-the-hurt-4/
END:VEVENT
BEGIN:VEVENT
DTSTART;TZID=Australia/Brisbane:20220709T170000
DTEND;TZID=Australia/Brisbane:20220709T170000
DTSTAMP:20260422T051145
CREATED:20220521T035020Z
LAST-MODIFIED:20220521T035056Z
UID:2268-1657386000-1657386000@royalmailgoodna.com
SUMMARY:Z- Star
DESCRIPTION:
URL:https://royalmailgoodna.com/event/pete-cullen-the-hurt-3/
END:VEVENT
END:VCALENDAR