BEGIN:VCALENDAR
VERSION:2.0
PRODID:-//Royal Mail Hotel - ECPv6.15.20//NONSGML v1.0//EN
CALSCALE:GREGORIAN
METHOD:PUBLISH
X-ORIGINAL-URL:https://royalmailgoodna.com
X-WR-CALDESC:Events for Royal Mail Hotel
REFRESH-INTERVAL;VALUE=DURATION:PT1H
X-Robots-Tag:noindex
X-PUBLISHED-TTL:PT1H
BEGIN:VTIMEZONE
TZID:Australia/Brisbane
BEGIN:STANDARD
TZOFFSETFROM:+1000
TZOFFSETTO:+1000
TZNAME:AEST
DTSTART:20210101T000000
END:STANDARD
END:VTIMEZONE
BEGIN:VEVENT
DTSTART;TZID=Australia/Brisbane:20220702T130000
DTEND;TZID=Australia/Brisbane:20220702T160000
DTSTAMP:20260422T073231
CREATED:20220521T035235Z
LAST-MODIFIED:20220628T015031Z
UID:2272-1656766800-1656777600@royalmailgoodna.com
SUMMARY:Slow Cooker
DESCRIPTION:
URL:https://royalmailgoodna.com/event/slow-cooker-5/
END:VEVENT
BEGIN:VEVENT
DTSTART;TZID=Australia/Brisbane:20220702T160000
DTEND;TZID=Australia/Brisbane:20220702T190000
DTSTAMP:20260422T073231
CREATED:20220521T034916Z
LAST-MODIFIED:20220628T015002Z
UID:2265-1656777600-1656788400@royalmailgoodna.com
SUMMARY:The Jar
DESCRIPTION:
URL:https://royalmailgoodna.com/event/slow-cooker-4/
END:VEVENT
END:VCALENDAR