BEGIN:VCALENDAR
VERSION:2.0
PRODID:-//Royal Mail Hotel - ECPv6.15.20//NONSGML v1.0//EN
CALSCALE:GREGORIAN
METHOD:PUBLISH
X-WR-CALNAME:Royal Mail Hotel
X-ORIGINAL-URL:https://royalmailgoodna.com
X-WR-CALDESC:Events for Royal Mail Hotel
REFRESH-INTERVAL;VALUE=DURATION:PT1H
X-Robots-Tag:noindex
X-PUBLISHED-TTL:PT1H
BEGIN:VTIMEZONE
TZID:Australia/Brisbane
BEGIN:STANDARD
TZOFFSETFROM:+1000
TZOFFSETTO:+1000
TZNAME:AEST
DTSTART:20210101T000000
END:STANDARD
END:VTIMEZONE
BEGIN:VEVENT
DTSTART;TZID=Australia/Brisbane:20220626T130000
DTEND;TZID=Australia/Brisbane:20220626T130000
DTSTAMP:20260422T062232
CREATED:20220622T053116Z
LAST-MODIFIED:20220622T053116Z
UID:2321-1656248400-1656248400@royalmailgoodna.com
SUMMARY:BASEQ Jam with Belle Hendrik Inc
DESCRIPTION:
URL:https://royalmailgoodna.com/event/baseq-jam-with-belle-hendrik-inc/
END:VEVENT
END:VCALENDAR