BEGIN:VCALENDAR
VERSION:2.0
PRODID:-//Royal Mail Hotel - ECPv6.15.20//NONSGML v1.0//EN
CALSCALE:GREGORIAN
METHOD:PUBLISH
X-WR-CALNAME:Royal Mail Hotel
X-ORIGINAL-URL:https://royalmailgoodna.com
X-WR-CALDESC:Events for Royal Mail Hotel
REFRESH-INTERVAL;VALUE=DURATION:PT1H
X-Robots-Tag:noindex
X-PUBLISHED-TTL:PT1H
BEGIN:VTIMEZONE
TZID:Australia/Brisbane
BEGIN:STANDARD
TZOFFSETFROM:+1000
TZOFFSETTO:+1000
TZNAME:AEST
DTSTART:20210101T000000
END:STANDARD
END:VTIMEZONE
BEGIN:VEVENT
DTSTART;TZID=Australia/Brisbane:20220611T130000
DTEND;TZID=Australia/Brisbane:20220611T130000
DTSTAMP:20260422T062237
CREATED:20220418T002356Z
LAST-MODIFIED:20220418T002356Z
UID:2210-1654952400-1654952400@royalmailgoodna.com
SUMMARY:The Evening Sons
DESCRIPTION:
URL:https://royalmailgoodna.com/event/the-evening-sons-3/
END:VEVENT
BEGIN:VEVENT
DTSTART;TZID=Australia/Brisbane:20220611T160000
DTEND;TZID=Australia/Brisbane:20220611T160000
DTSTAMP:20260422T062237
CREATED:20220606T055254Z
LAST-MODIFIED:20220606T055254Z
UID:2286-1654963200-1654963200@royalmailgoodna.com
SUMMARY:Pete Cullen & The Hurt
DESCRIPTION:
URL:https://royalmailgoodna.com/event/pete-cullen-the-hurt-5/
END:VEVENT
END:VCALENDAR