BEGIN:VCALENDAR
VERSION:2.0
PRODID:-//Royal Mail Hotel - ECPv6.15.20//NONSGML v1.0//EN
CALSCALE:GREGORIAN
METHOD:PUBLISH
X-ORIGINAL-URL:https://royalmailgoodna.com
X-WR-CALDESC:Events for Royal Mail Hotel
REFRESH-INTERVAL;VALUE=DURATION:PT1H
X-Robots-Tag:noindex
X-PUBLISHED-TTL:PT1H
BEGIN:VTIMEZONE
TZID:Australia/Brisbane
BEGIN:STANDARD
TZOFFSETFROM:+1000
TZOFFSETTO:+1000
TZNAME:AEST
DTSTART:20210101T000000
END:STANDARD
END:VTIMEZONE
BEGIN:VEVENT
DTSTART;TZID=Australia/Brisbane:20220604T130000
DTEND;TZID=Australia/Brisbane:20220604T130000
DTSTAMP:20260422T085049
CREATED:20220521T034605Z
LAST-MODIFIED:20220521T034605Z
UID:2259-1654347600-1654347600@royalmailgoodna.com
SUMMARY:John Malcolm
DESCRIPTION:
URL:https://royalmailgoodna.com/event/john-malcolm-2/
END:VEVENT
BEGIN:VEVENT
DTSTART;TZID=Australia/Brisbane:20220604T163000
DTEND;TZID=Australia/Brisbane:20220604T163000
DTSTAMP:20260422T085049
CREATED:20220418T003742Z
LAST-MODIFIED:20220418T003742Z
UID:2226-1654360200-1654360200@royalmailgoodna.com
SUMMARY:Marshall and The Fro
DESCRIPTION:
URL:https://royalmailgoodna.com/event/marshall-and-the-fro-3/
END:VEVENT
END:VCALENDAR