BEGIN:VCALENDAR
VERSION:2.0
PRODID:-//Royal Mail Hotel - ECPv6.15.20//NONSGML v1.0//EN
CALSCALE:GREGORIAN
METHOD:PUBLISH
X-WR-CALNAME:Royal Mail Hotel
X-ORIGINAL-URL:https://royalmailgoodna.com
X-WR-CALDESC:Events for Royal Mail Hotel
REFRESH-INTERVAL;VALUE=DURATION:PT1H
X-Robots-Tag:noindex
X-PUBLISHED-TTL:PT1H
BEGIN:VTIMEZONE
TZID:Australia/Brisbane
BEGIN:STANDARD
TZOFFSETFROM:+1000
TZOFFSETTO:+1000
TZNAME:AEST
DTSTART:20210101T000000
END:STANDARD
END:VTIMEZONE
BEGIN:VEVENT
DTSTART;TZID=Australia/Brisbane:20220528T130000
DTEND;TZID=Australia/Brisbane:20220528T130000
DTSTAMP:20260422T095950
CREATED:20220521T034752Z
LAST-MODIFIED:20220521T034752Z
UID:2263-1653742800-1653742800@royalmailgoodna.com
SUMMARY:The Turnaround
DESCRIPTION:
URL:https://royalmailgoodna.com/event/the-turnaround-2/
END:VEVENT
BEGIN:VEVENT
DTSTART;TZID=Australia/Brisbane:20220528T163000
DTEND;TZID=Australia/Brisbane:20220528T163000
DTSTAMP:20260422T095950
CREATED:20220410T071207Z
LAST-MODIFIED:20220521T035354Z
UID:2200-1653755400-1653755400@royalmailgoodna.com
SUMMARY:Mescalito Blues
DESCRIPTION:
URL:https://royalmailgoodna.com/event/mescalito-blues-3/
END:VEVENT
END:VCALENDAR