BEGIN:VCALENDAR
VERSION:2.0
PRODID:-//Royal Mail Hotel - ECPv6.15.20//NONSGML v1.0//EN
CALSCALE:GREGORIAN
METHOD:PUBLISH
X-WR-CALNAME:Royal Mail Hotel
X-ORIGINAL-URL:https://royalmailgoodna.com
X-WR-CALDESC:Events for Royal Mail Hotel
REFRESH-INTERVAL;VALUE=DURATION:PT1H
X-Robots-Tag:noindex
X-PUBLISHED-TTL:PT1H
BEGIN:VTIMEZONE
TZID:Australia/Brisbane
BEGIN:STANDARD
TZOFFSETFROM:+1000
TZOFFSETTO:+1000
TZNAME:AEST
DTSTART:20210101T000000
END:STANDARD
END:VTIMEZONE
BEGIN:VEVENT
DTSTART;TZID=Australia/Brisbane:20220514T130000
DTEND;TZID=Australia/Brisbane:20220514T130000
DTSTAMP:20260422T095949
CREATED:20220307T061158Z
LAST-MODIFIED:20220307T061306Z
UID:1995-1652533200-1652533200@royalmailgoodna.com
SUMMARY:Peaches & the Alphasonics
DESCRIPTION:
URL:https://royalmailgoodna.com/event/peaches-the-alphasonics/
END:VEVENT
BEGIN:VEVENT
DTSTART;TZID=Australia/Brisbane:20220514T163000
DTEND;TZID=Australia/Brisbane:20220514T163000
DTSTAMP:20260422T095949
CREATED:20220307T061639Z
LAST-MODIFIED:20220307T061817Z
UID:1999-1652545800-1652545800@royalmailgoodna.com
SUMMARY:Dezzie D and The Stingrayz
DESCRIPTION:
URL:https://royalmailgoodna.com/event/dezzie-d-and-the-stingrayz-3/
END:VEVENT
END:VCALENDAR