BEGIN:VCALENDAR
VERSION:2.0
PRODID:-//Royal Mail Hotel - ECPv6.15.20//NONSGML v1.0//EN
CALSCALE:GREGORIAN
METHOD:PUBLISH
X-WR-CALNAME:Royal Mail Hotel
X-ORIGINAL-URL:https://royalmailgoodna.com
X-WR-CALDESC:Events for Royal Mail Hotel
REFRESH-INTERVAL;VALUE=DURATION:PT1H
X-Robots-Tag:noindex
X-PUBLISHED-TTL:PT1H
BEGIN:VTIMEZONE
TZID:Australia/Brisbane
BEGIN:STANDARD
TZOFFSETFROM:+1000
TZOFFSETTO:+1000
TZNAME:AEST
DTSTART:20210101T000000
END:STANDARD
END:VTIMEZONE
BEGIN:VEVENT
DTSTART;TZID=Australia/Brisbane:20220507T140000
DTEND;TZID=Australia/Brisbane:20220507T140000
DTSTAMP:20260422T095953
CREATED:20220404T051211Z
LAST-MODIFIED:20220404T051335Z
UID:2186-1651932000-1651932000@royalmailgoodna.com
SUMMARY:Buzz and the Blues Band
DESCRIPTION:
URL:https://royalmailgoodna.com/event/blues-arcadia-2/
END:VEVENT
BEGIN:VEVENT
DTSTART;TZID=Australia/Brisbane:20220507T173000
DTEND;TZID=Australia/Brisbane:20220507T173000
DTSTAMP:20260422T095953
CREATED:20220404T051514Z
LAST-MODIFIED:20220404T051514Z
UID:2190-1651944600-1651944600@royalmailgoodna.com
SUMMARY:Blues Arcadia
DESCRIPTION:
URL:https://royalmailgoodna.com/event/blues-arcadia-3/
END:VEVENT
END:VCALENDAR