BEGIN:VCALENDAR
VERSION:2.0
PRODID:-//Royal Mail Hotel - ECPv6.15.20//NONSGML v1.0//EN
CALSCALE:GREGORIAN
METHOD:PUBLISH
X-WR-CALNAME:Royal Mail Hotel
X-ORIGINAL-URL:https://royalmailgoodna.com
X-WR-CALDESC:Events for Royal Mail Hotel
REFRESH-INTERVAL;VALUE=DURATION:PT1H
X-Robots-Tag:noindex
X-PUBLISHED-TTL:PT1H
BEGIN:VTIMEZONE
TZID:Australia/Brisbane
BEGIN:STANDARD
TZOFFSETFROM:+1000
TZOFFSETTO:+1000
TZNAME:AEST
DTSTART:20210101T000000
END:STANDARD
END:VTIMEZONE
BEGIN:VEVENT
DTSTART;TZID=Australia/Brisbane:20220430T130000
DTEND;TZID=Australia/Brisbane:20220430T130000
DTSTAMP:20260422T111501
CREATED:20220321T003948Z
LAST-MODIFIED:20220321T004153Z
UID:2173-1651323600-1651323600@royalmailgoodna.com
SUMMARY:Rhyley McGrath
DESCRIPTION:
URL:https://royalmailgoodna.com/event/rhyley-mcgrath/
END:VEVENT
BEGIN:VEVENT
DTSTART;TZID=Australia/Brisbane:20220430T163000
DTEND;TZID=Australia/Brisbane:20220430T163000
DTSTAMP:20260422T111501
CREATED:20220321T004237Z
LAST-MODIFIED:20220321T004237Z
UID:2176-1651336200-1651336200@royalmailgoodna.com
SUMMARY:West Texas Crude
DESCRIPTION:
URL:https://royalmailgoodna.com/event/west-texas-crude-4/
END:VEVENT
END:VCALENDAR