BEGIN:VCALENDAR
VERSION:2.0
PRODID:-//Royal Mail Hotel - ECPv6.15.20//NONSGML v1.0//EN
CALSCALE:GREGORIAN
METHOD:PUBLISH
X-ORIGINAL-URL:https://royalmailgoodna.com
X-WR-CALDESC:Events for Royal Mail Hotel
REFRESH-INTERVAL;VALUE=DURATION:PT1H
X-Robots-Tag:noindex
X-PUBLISHED-TTL:PT1H
BEGIN:VTIMEZONE
TZID:Australia/Brisbane
BEGIN:STANDARD
TZOFFSETFROM:+1000
TZOFFSETTO:+1000
TZNAME:AEST
DTSTART:20210101T000000
END:STANDARD
END:VTIMEZONE
BEGIN:VEVENT
DTSTART;TZID=Australia/Brisbane:20220326T130000
DTEND;TZID=Australia/Brisbane:20220326T130000
DTSTAMP:20260422T155841
CREATED:20220307T060611Z
LAST-MODIFIED:20220325T101543Z
UID:1986-1648299600-1648299600@royalmailgoodna.com
SUMMARY:The Kingtones
DESCRIPTION:
URL:https://royalmailgoodna.com/event/buzz-and-the-blues-band-2/
END:VEVENT
BEGIN:VEVENT
DTSTART;TZID=Australia/Brisbane:20220326T163000
DTEND;TZID=Australia/Brisbane:20220326T163000
DTSTAMP:20260422T155841
CREATED:20220307T060700Z
LAST-MODIFIED:20220307T060700Z
UID:1989-1648312200-1648312200@royalmailgoodna.com
SUMMARY:West Texas Crude
DESCRIPTION:
URL:https://royalmailgoodna.com/event/west-texas-crude-3/
END:VEVENT
END:VCALENDAR