BEGIN:VCALENDAR
VERSION:2.0
PRODID:-//Royal Mail Hotel - ECPv6.15.20//NONSGML v1.0//EN
CALSCALE:GREGORIAN
METHOD:PUBLISH
X-ORIGINAL-URL:https://royalmailgoodna.com
X-WR-CALDESC:Events for Royal Mail Hotel
REFRESH-INTERVAL;VALUE=DURATION:PT1H
X-Robots-Tag:noindex
X-PUBLISHED-TTL:PT1H
BEGIN:VTIMEZONE
TZID:Australia/Brisbane
BEGIN:STANDARD
TZOFFSETFROM:+1000
TZOFFSETTO:+1000
TZNAME:AEST
DTSTART:20210101T000000
END:STANDARD
END:VTIMEZONE
BEGIN:VEVENT
DTSTART;TZID=Australia/Brisbane:20220219T140000
DTEND;TZID=Australia/Brisbane:20220219T140000
DTSTAMP:20260422T144938
CREATED:20220124T010516Z
LAST-MODIFIED:20220206T065533Z
UID:1905-1645279200-1645279200@royalmailgoodna.com
SUMMARY:Steve Tyson & The Train Rex
DESCRIPTION:
URL:https://royalmailgoodna.com/event/steve-tyson-the-train-wreak/
END:VEVENT
BEGIN:VEVENT
DTSTART;TZID=Australia/Brisbane:20220219T173000
DTEND;TZID=Australia/Brisbane:20220219T173000
DTSTAMP:20260422T144938
CREATED:20220124T010611Z
LAST-MODIFIED:20220124T011053Z
UID:1907-1645291800-1645291800@royalmailgoodna.com
SUMMARY:Superfry'd
DESCRIPTION:
URL:https://royalmailgoodna.com/event/superfryd/
END:VEVENT
END:VCALENDAR