BEGIN:VCALENDAR
VERSION:2.0
PRODID:-//Royal Mail Hotel - ECPv6.15.20//NONSGML v1.0//EN
CALSCALE:GREGORIAN
METHOD:PUBLISH
X-ORIGINAL-URL:https://royalmailgoodna.com
X-WR-CALDESC:Events for Royal Mail Hotel
REFRESH-INTERVAL;VALUE=DURATION:PT1H
X-Robots-Tag:noindex
X-PUBLISHED-TTL:PT1H
BEGIN:VTIMEZONE
TZID:Australia/Brisbane
BEGIN:STANDARD
TZOFFSETFROM:+1000
TZOFFSETTO:+1000
TZNAME:AEST
DTSTART:20200101T000000
END:STANDARD
END:VTIMEZONE
BEGIN:VEVENT
DTSTART;TZID=Australia/Brisbane:20211113T130000
DTEND;TZID=Australia/Brisbane:20211113T130000
DTSTAMP:20260424T214812
CREATED:20211101T004544Z
LAST-MODIFIED:20211101T004544Z
UID:1801-1636808400-1636808400@royalmailgoodna.com
SUMMARY:Alpha Stomp
DESCRIPTION:
URL:https://royalmailgoodna.com/event/alpha-stomp/
END:VEVENT
BEGIN:VEVENT
DTSTART;TZID=Australia/Brisbane:20211113T163000
DTEND;TZID=Australia/Brisbane:20211113T163000
DTSTAMP:20260424T214812
CREATED:20211101T004621Z
LAST-MODIFIED:20211101T004621Z
UID:1803-1636821000-1636821000@royalmailgoodna.com
SUMMARY:Vix and The Slick Chix
DESCRIPTION:
URL:https://royalmailgoodna.com/event/vix-and-the-slick-chix/
END:VEVENT
END:VCALENDAR