BEGIN:VCALENDAR
VERSION:2.0
PRODID:-//Royal Mail Hotel - ECPv6.15.20//NONSGML v1.0//EN
CALSCALE:GREGORIAN
METHOD:PUBLISH
X-ORIGINAL-URL:https://royalmailgoodna.com
X-WR-CALDESC:Events for Royal Mail Hotel
REFRESH-INTERVAL;VALUE=DURATION:PT1H
X-Robots-Tag:noindex
X-PUBLISHED-TTL:PT1H
BEGIN:VTIMEZONE
TZID:Australia/Brisbane
BEGIN:STANDARD
TZOFFSETFROM:+1000
TZOFFSETTO:+1000
TZNAME:AEST
DTSTART:20200101T000000
END:STANDARD
END:VTIMEZONE
BEGIN:VEVENT
DTSTART;TZID=Australia/Brisbane:20211106T130000
DTEND;TZID=Australia/Brisbane:20211106T130000
DTSTAMP:20260424T231603
CREATED:20211101T003039Z
LAST-MODIFIED:20211101T003039Z
UID:1792-1636203600-1636203600@royalmailgoodna.com
SUMMARY:Ben Whiting
DESCRIPTION:
URL:https://royalmailgoodna.com/event/ben-whiting/
END:VEVENT
BEGIN:VEVENT
DTSTART;TZID=Australia/Brisbane:20211106T160000
DTEND;TZID=Australia/Brisbane:20211106T160000
DTSTAMP:20260424T231603
CREATED:20211101T003249Z
LAST-MODIFIED:20211101T003249Z
UID:1795-1636214400-1636214400@royalmailgoodna.com
SUMMARY:Buzz & The Blues Band
DESCRIPTION:
URL:https://royalmailgoodna.com/event/buzz-the-blues-band/
END:VEVENT
END:VCALENDAR