BEGIN:VCALENDAR
VERSION:2.0
PRODID:-//Royal Mail Hotel - ECPv6.15.20//NONSGML v1.0//EN
CALSCALE:GREGORIAN
METHOD:PUBLISH
X-ORIGINAL-URL:https://royalmailgoodna.com
X-WR-CALDESC:Events for Royal Mail Hotel
REFRESH-INTERVAL;VALUE=DURATION:PT1H
X-Robots-Tag:noindex
X-PUBLISHED-TTL:PT1H
BEGIN:VTIMEZONE
TZID:Australia/Brisbane
BEGIN:STANDARD
TZOFFSETFROM:+1000
TZOFFSETTO:+1000
TZNAME:AEST
DTSTART:20200101T000000
END:STANDARD
END:VTIMEZONE
BEGIN:VEVENT
DTSTART;TZID=Australia/Brisbane:20211030T133000
DTEND;TZID=Australia/Brisbane:20211030T133000
DTSTAMP:20260425T015145
CREATED:20211027T053823Z
LAST-MODIFIED:20211027T053823Z
UID:1780-1635600600-1635600600@royalmailgoodna.com
SUMMARY:Coojee & JB
DESCRIPTION:
URL:https://royalmailgoodna.com/event/coojee-jb/
END:VEVENT
BEGIN:VEVENT
DTSTART;TZID=Australia/Brisbane:20211030T163000
DTEND;TZID=Australia/Brisbane:20211030T163000
DTSTAMP:20260425T015145
CREATED:20211027T053910Z
LAST-MODIFIED:20211027T053910Z
UID:1782-1635611400-1635611400@royalmailgoodna.com
SUMMARY:The GrooveMasters
DESCRIPTION:
URL:https://royalmailgoodna.com/event/the-groovemasters/
END:VEVENT
END:VCALENDAR